Workbook
Name _Toc462669811: '5-03'!$A$3
Name _Toc462744705: '2-20'!$A$3

Sheet Contents
A1: SIFMA Capital Markets Fact Book
A2: Most Recent Year: 2024
A3: Grey titles not available in Excel format
A5: Contents | B5: Tab
A7: Global Capital Markets
A8: Global Bond and Equity Issuance - Charts | B8: 1-01
A9: Global Long-Term Bond Issuance | B9: 1-02
A10: Global Equity Issuance | B10: 1-03
A11: International Security Offerings by All Issuers - Market Value | B11: 1-04
A12: International Security Offerings by All Issuers - Number of Issues | B12: 1-05
A13: International Security Offerings by U.S. Issuers - Market Value | B13: 1-06
A14: International Security Offerings by U.S. Issuers - Number of Issues | B14: 1-07
A15: Global Bond Market Outstanding and Global Equity Market Capitalization - Charts | B15: 1-08
A16: Global Bond Market Outstanding - Value | B16: 1-09
A17: Global Bond Market Outstanding - Share of Total | B17: 1-10
A18: Global Equity Markets Capitalization - Market Value | B18: 1-11
A19: Global Equity Markets Capitalization - Share of Total | B19: 1-12
... A36: American Depositary Receipts (ADRs) | B36: 1-29
A38: U.S. Capital Markets
A39: U.S. Fixed Income Securities Issuance – Value | B39: 2-01
A40: U.S. Fixed Income Securities Issuance – Number of Issues | B40: 2-02
A41: U.S. Equity Issuance – Value | B41: 2-03
A42: U.S. Equity Issuance – Number of Issues | B42: 2-04
A43: Corporate Bonds and Equity Issuance in the U.S. and U.S. Initial Public Offerings - Charts | B43: 2-05
A44: U.S. Private Placements – Value | B44: 2-06
A45: U.S. Private Placements – Number of Issues | B45: 2-07
A46: U.S. Long-Term Municipal Bond Issuance – Value | B46: 2-08
A47: U.S. Long-Term Municipal Bond Issuance – Number of Issues | B47: 2-09
A48: U.S. Long-Term Municipal Bond Issuance – Number of Issuers | B48: 2-10
A49: Bank Qualified U.S. Municipal Bond Issuance | B49: 2-11
A50: U.S. Equity and Debt Outstanding | B50: 2-12
... A64: Net Assets and Number of Exchange-Traded Funds (ETFs) - Chart | B64: 2-26
A66: U.S. Investor Participation
A67: U.S. Holdings of Equities – Market Value | B67: 3-01
A68: U.S. Family Holdings of Stock | B68: 3-02
A69: U.S. Household Equity Ownership | B69: 3-03
A70: U.S. Household Liquid Financial Assets - Market Value | B70: 3-04
A71: U.S. Household Liquid Financial Assets - Share of Total | B71: 3-05
A72: U.S. Holdings of Equities by Type of Holder - Market Value | B72: 3-06
A73: U.S. Holdings of Equities by Type of Holder - Share of Total | B73: 3-07
...

Sheet 1-01
A1: Return to the Table of Contents
A3: Global Fixed Income and Equity Issuance - Charts
A23: Sources: Bloomberg, Refinitiv, Dealogic
A24: Note: Long-term includes securities with maturity >13 months; global equity issuance includes non-convertible IPOs and follow-on equity deals, excludes preferred shares, rights issues, closed-end funds, business development companies, and special purpose acquisition companies

Sheet 1-08
A1: Return to the Table of Contents
A3: Global Fixed Income Market Outstanding
B6: US | C6: EU | D6: China | E6: Japan | F6: EM | G6: UK | H6: Canada | I6: DM | J6: Australia | K6: Switzerland | L6: Singapore | M6: HK | N6: Total
A7: Dollar Amount
A8: 2014 | B8: 33771.543 | C8: 20008.587 | D8: 5835.3712 | E8: 10549.747 | F8: 1397.9438 | G8: 5845.705 | H8: 2206.1224 | I8: 880.16081 | J8: 1995.9104 | K8: 428.868 | L8: 349.32475 | M8: 110.66867 | N8: 83379.953
A9: 2024 | B9: 58171.747 | C9: 26177.17 | D9: 25045.727 | E9: 10598.949 | F9: 6960.741 | G9: 6056.354 | H9: 4238.7162 | I9: 3632.578 | J9: 2321.1955 | K9: 825.07136 | L9: 804.72801 | M9: 229.96302 | N9: 145062.94
A10: Change Total | B10: 0.72250782 | C10: 0.30829675 | D10: 3.2920539 | E10: 0.0046637528 | F10: 3.979271 | G10: 0.036034835 | H10: 0.92134227 | I10: 3.1271754 | J10: 0.16297578 | K10: 0.92383521 | L10: 1.3036673 | M10: 1.0779415 | N10: 0.73978199
A11: % of Total
A12: 2014 | B12: 0.40503193 | C12: 0.2399688 | D12: 0.069985302 | E12: 0.12652619 | F12: 0.016765946 | G12: 0.070109238 | H12: 0.026458667 | I12: 0.010556024 | J12: 0.023937534 | K12: 0.0051435385 | L12: 0.0041895532 | M12: 0.0013272815 | N12: 1
A13: 2024 | B13: 0.40101039 | C13: 0.18045388 | D13: 0.17265421 | E13: 0.073064483 | F13: 0.047984282 | G13: 0.041749836 | H13: 0.029219842 | I13: 0.025041392 | J13: 0.016001299 | K13: 0.0056876785 | L13: 0.0055474403 | M13: 0.0015852638 | N13: 1
A15: Source: Bank of International Settlements (BIS)
A16: Note: EU = European Union, HK = Hong Kong, DM = developed markets, EM = emerging markets. DM/EM exclude countries listed in the chart
A20: Global Equity Market Capitalization
B23: US | C23: China | D23: EU | E23: DM | F23: Japan | G23: India | H23: EM | I23: HK | J23: UK | K23: Canada | L23: Australia | M23: Singapore | N23: Total
A24: Dollar Amount
A25: 2014 | B25: 26330.589 | C25: 6004.9477 | D25: 7844.2518 | E25: 5292.9346 | F25: 4377.9944 | G25: 3079.2248 | H25: 5336.4312 | I25: 3233.0306 | J25: 4012.8823 | K25: 2095.4207 | L25: 1288.7546 | M25: 752.83101 | N25: 69649.293
A26: 2024 | B26: 62185.685 | C26: 11755.758 | D26: 11055.718 | E26: 10811.295 | F26: 6310.6814 | G26: 5131.3974 | H26: 4744.0967 | I26: 4549.7208 | J26: 4399.4231 | K26: 3374.4772 | L26: 1737.1063 | M26: 637.63027 | N26: 126692.99
A27: Change Total | B27: 1.3617278 | C27: 0.95767867 | D27: 0.40940375 | E27: 1.0425899 | F27: 0.4414549 | G27: 0.66645756 | H27: -0.11099825 | I27: 0.4072619 | J27: 0.096324991 | K27: 0.61040559 | L27: 0.34789531 | M27: -0.15302337 | N27: 0.81901329
A28: % of Total
A29: 2014 | B29: 0.37804532 | C29: 0.086216922 | D29: 0.112625 | E29: 0.07599409 | F29: 0.0628577 | G29: 0.044210424 | H29: 0.076618598 | I29: 0.046418714 | J29: 0.057615549 | K29: 0.030085312 | L29: 0.018503485 | M29: 0.010808882 | N29: 1
A30: 2024 | B30: 0.49083762 | C30: 0.092789333 | D30: 0.087263849 | E30: 0.085334593 | F30: 0.049810818 | G30: 0.040502616 | H30: 0.037445613 | I30: 0.035911385 | J30: 0.034725071 | K30: 0.026635074 | L30: 0.013711148 | M30: 0.0050328773 | N30: 1
A32: Source: World Federation of Exchanges
A33: Note: Market capitalization of listed domestic companies. EU = European Union, HK = Hong Kong, DM = developed markets, EM = emerging markets, DM/EM exclude countries listed in the table

Sheet 1-09
A1: Return to the Table of Contents
A3: Global Fixed Income Market Outstanding - Value
A6: ($B) | B6: Australia | C6: Canada | D6: China | E6: EU | F6: HK | G6: Japan | H6: Singapore | I6: Switzerland | J6: UK | K6: US | L6: DM | M6: EM | N6: Total | P6: (Y/Y) | Q6: =B6 -> Australia | R6: =C6 -> Canada | S6: =D6 -> China | T6: =E6 -> EU | U6: =F6 -> HK | V6: =G6 -> Japan | W6: =H6 -> Singapore | X6: =I6 -> Switzerland | ... AC6: =N6 -> Total
A7: 2010 | B7: 1884.6662 | C7: 1866.5836 | D7: 3065.3441 | E7: 21256.682 | F7: 88.562828 | G7: 14604.14 | H7: 218.98205 | I7: 511.71633 | J7: 5012.329 | K7: 29676.177 | L7: 790.13494 | M7: 1222.1612 | N7: 80197.479
A8: 2011 | B8: 2007.3405 | C8: 1963.3723 | D8: 3528.4441 | E8: 21415.303 | F8: 91.995893 | G8: 15809.099 | H8: 240.87812 | I8: 417.43615 | J8: 5350.894 | K8: 30448.029 | L8: 802.5148 | M8: 1233.2321 | N8: 83308.539 | P8: =A8 -> 2011 | Q8: =B8/B7-1 -> 0.065090728 | R8: =C8/C7-1 -> 0.051853427 | S8: =D8/D7-1 -> 0.15107602 | T8: =E8/E7-1 -> 0.0074621704 | U8: =F8/F7-1 -> 0.038764166 | V8: =G8/G7-1 -> 0.082508053 | W8: =H8/H7-1 -> 0.099990236 | X8: =I8/I7-1 -> -0.18424306 | ... AC8: =N8/N7-1 -> 0.038792489
A9: 2012 | B9: 2169.9693 | C9: 2173.4965 | D9: 4294.0522 | E9: 22085.855 | F9: 94.906494 | G9: 14249.977 | H9: 294.80831 | I9: 430.21287 | J9: 5657.768 | K9: 31695.351 | L9: 931.17681 | M9: 1405.189 | N9: 85482.763 | P9: =A9 -> 2012 | Q9: =B9/B8-1 -> 0.081017034 | R9: =C9/C8-1 -> 0.10702209 | S9: =D9/D8-1 -> 0.21698178 | T9: =E9/E8-1 -> 0.031311834 | U9: =F9/F8-1 -> 0.031638388 | V9: =G9/G8-1 -> -0.098621766 | W9: =H9/H8-1 -> 0.22388994 | X9: =I9/I8-1 -> 0.030607613 | ... AC9: =N9/N8-1 -> 0.026098461
A10: 2013 | B10: 1979.8531 | C10: 2241.8806 | D10: 4960.8465 | E10: 22664.042 | F10: 109.92552 | G10: 11902.46 | H10: 331.3854 | I10: 461.77369 | J10: 5555.062 | K10: 32727.417 | L10: 948.69557 | M10: 1343.2508 | N10: 85226.592 | P10: =A10 -> 2013 | Q10: =B10/B9-1 -> -0.087612382 | R10: =C10/C9-1 -> 0.031462712 | S10: =D10/D9-1 -> 0.15528323 | T10: =E10/E9-1 -> 0.026179042 | U10: =F10/F9-1 -> 0.15825082 | V10: =G10/G9-1 -> -0.16473832 | W10: =H10/H9-1 -> 0.12407078 | X10: =I10/I9-1 -> 0.073360925 | ... AC10: =N10/N9-1 -> -0.0029967573
A11: 2014 | B11: 1995.9104 | C11: 2206.1224 | D11: 5835.3712 | E11: 20008.587 | F11: 110.66867 | G11: 10549.747 | H11: 349.32475 | I11: 428.868 | J11: 5845.705 | K11: 33771.543 | L11: 880.16081 | M11: 1397.9438 | N11: 83379.953 | P11: =A11 -> 2014 | Q11: =B11/B10-1 -> 0.008110343 | R11: =C11/C10-1 -> -0.015950098 | S11: =D11/D10-1 -> 0.17628537 | T11: =E11/E10-1 -> -0.11716596 | U11: =F11/F10-1 -> 0.0067604251 | V11: =G11/G10-1 -> -0.11364985 | W11: =H11/H10-1 -> 0.054134397 | X11: =I11/I10-1 -> -0.071259335 | ... AC11: =N11/N10-1 -> -0.021667408
A12: 2015 | B12: 1880.5857 | C12: 2767.4679 | D12: 7752.5028 | E12: 17987.91 | F12: 121.84538 | G12: 10634.218 | H12: 322.31993 | I12: 438.24305 | J12: 5565.115 | K12: 34855.885 | L12: 820.99804 | M12: 1413.7127 | N12: 84560.803 | P12: =A12 -> 2015 | Q12: =B12/B11-1 -> -0.057780494 | R12: =C12/C11-1 -> 0.25444896 | S12: =D12/D11-1 -> 0.32853637 | T12: =E12/E11-1 -> -0.10099051 | U12: =F12/F11-1 -> 0.10099257 | V12: =G12/G11-1 -> 0.0080068512 | W12: =H12/H11-1 -> -0.077305773 | X12: =I12/I11-1 -> 0.021859985 | ... AC12: =N12/N11-1 -> 0.014162283
A13: 2016 | B13: 1868.3458 | C13: 2943.4569 | D13: 9408.7677 | E13: 17538.367 | F13: 139.43612 | G13: 11244.196 | H13: 326.42778 | I13: 447.63365 | J13: 5142.153 | K13: 36070.078 | L13: 879.72867 | M13: 1538.9988 | N13: 87547.589 | P13: =A13 -> 2016 | Q13: =B13/B12-1 -> -0.0065085801 | R13: =C13/C12-1 -> 0.063592055 | S13: =D13/D12-1 -> 0.2136426 | T13: =E13/E12-1 -> -0.02499143 | U13: =F13/F12-1 -> 0.14436937 | V13: =G13/G12-1 -> 0.057359943 | W13: =H13/H12-1 -> 0.012744633 | X13: =I13/I12-1 -> 0.021427837 | ... AC13: =N13/N12-1 -> 0.035321156
A14: 2017 | B14: 2034.1432 | C14: 3267.4355 | D14: 11757.087 | E14: 19938.5 | F14: 150.77536 | G14: 11916.494 | H14: 412.21364 | I14: 487.51507 | J14: 5712.928 | K14: 37295.924 | L14: 965.90373 | M14: 1835.774 | N14: 95774.694 | P14: =A14 -> 2017 | Q14: =B14/B13-1 -> 0.088740233 | R14: =C14/C13-1 -> 0.11006738 | S14: =D14/D13-1 -> 0.24958839 | T14: =E14/E13-1 -> 0.13685048 | U14: =F14/F13-1 -> 0.081322065 | V14: =G14/G13-1 -> 0.059790678 | W14: =H14/H13-1 -> 0.26280195 | X14: =I14/I13-1 -> 0.089093874 | ... AC14: =N14/N13-1 -> 0.093972948
A15: 2018 | B15: 1918.1191 | C15: 3150.9551 | D15: 12906.933 | E15: 19449.363 | F15: 152.40009 | G15: 12462.485 | H15: 441.05169 | I15: 516.9347 | J15: 5434.642 | K15: 38793.687 | L15: 3136.6833 | M15: 5155.9061 | N15: 103519.16 | P15: =A15 -> 2018 | Q15: =B15/B14-1 -> -0.057038334 | R15: =C15/C14-1 -> -0.035648864 | S15: =D15/D14-1 -> 0.097800228 | T15: =E15/E14-1 -> -0.024532293 | U15: =F15/F14-1 -> 0.01077587 | V15: =G15/G14-1 -> 0.045818085 | W15: =H15/H14-1 -> 0.069958991 | X15: =I15/I14-1 -> 0.060346111 | ... AC15: =N15/N14-1 -> 0.080861299
A16: 2019 | B16: 1959.7395 | C16: 3371.0791 | D16: 14725.914 | E16: 19792.11 | F16: 154.8274 | G16: 12817.977 | H16: 492.8664 | I16: 569.39226 | J16: 5965.052 | K16: 40628.868 | L16: 3291.5133 | M16: 5501.1163 | N16: 109270.45 | P16: =A16 -> 2019 | Q16: =B16/B15-1 -> 0.021698559 | R16: =C16/C15-1 -> 0.069859452 | S16: =D16/D15-1 -> 0.14093053 | T16: =E16/E15-1 -> 0.017622491 | U16: =F16/F15-1 -> 0.015927216 | V16: =G16/G15-1 -> 0.028525022 | W16: =H16/H15-1 -> 0.11747991 | X16: =I16/I15-1 -> 0.10147811 | ... AC16: =N16/N15-1 -> 0.055557782
A17: 2020 | B17: 2502.1885 | C17: 3914.4272 | D17: 18555.574 | E17: 25585.497 | F17: 154.78855 | G17: 14672.132 | H17: 542.75668 | I17: 675.08438 | J17: 5355.1606 | K17: 46629.423 | L17: 3806.2574 | M17: 5551.0504 | N17: 127944.34 | P17: =A17 -> 2020 | Q17: =B17/B16-1 -> 0.27679647 | R17: =C17/C16-1 -> 0.16117927 | S17: =D17/D16-1 -> 0.26006266 | T17: =E17/E16-1 -> 0.29271199 | U17: =F17/F16-1 -> -0.00025092021 | V17: =G17/G16-1 -> 0.14465264 | W17: =H17/H16-1 -> 0.10122477 | X17: =I17/I16-1 -> 0.18562267 | ... AC17: =N17/N16-1 -> 0.17089601
A18: 2021 | B18: 2415.2766 | C18: 4074.186 | D18: 21816.443 | E18: 24955.613 | F18: 177.10837 | G18: 13375.09 | H18: 612.3586 | I18: 700.84602 | J18: 5606.1606 | K18: 49589.931 | L18: 3810.7745 | M18: 5681.0992 | N18: 132814.89 | P18: =A18 -> 2021 | Q18: =B18/B17-1 -> -0.034734361 | R18: =C18/C17-1 -> 0.040812817 | S18: =D18/D17-1 -> 0.1757353 | T18: =E18/E17-1 -> -0.024618823 | U18: =F18/F17-1 -> 0.14419555 | V18: =G18/G17-1 -> -0.088401692 | W18: =H18/H17-1 -> 0.12823779 | X18: =I18/I17-1 -> 0.038160635 | ... AC18: =N18/N17-1 -> 0.038067706
A19: 2022 | B19: 2293.2466 | C19: 4070.9673 | D19: 21659.974 | E19: 24301.707 | F19: 193.55855 | G19: 12058.639 | H19: 656.60632 | I19: 810.68853 | J19: 5266.0108 | K19: 52154.155 | L19: 3736.5804 | M19: 6245.3273 | N19: 133447.46 | P19: =A19 -> 2022 | Q19: =B19/B18-1 -> -0.05052421 | R19: =C19/C18-1 -> -0.00079001593 | S19: =D19/D18-1 -> -0.0071720783 | T19: =E19/E18-1 -> -0.026202757 | U19: =F19/F18-1 -> 0.092882005 | V19: =G19/G18-1 -> -0.09842563 | W19: =H19/H18-1 -> 0.072257852 | X19: =I19/I18-1 -> 0.15672844 | ... AC19: =N19/N18-1 -> 0.0047628184
... A21: 2024 | B21: 2321.1955 | C21: 4238.7162 | D21: 25045.727 | E21: 26177.17 | F21: 229.96302 | G21: 10598.949 | H21: 804.72801 | I21: 825.07136 | J21: 6056.354 | K21: 58171.747 | L21: 3632.578 | M21: 6960.741 | N21: 145062.94 | P21: =A21 -> 2024 | Q21: =B21/B20-1 -> -0.03625747 | R21: =C21/C20-1 -> -0.015528145 | S21: =D21/D20-1 -> 0.093054359 | T21: =E21/E20-1 -> -0.015563579 | U21: =F21/F20-1 -> 0.059305824 | V21: =G21/G20-1 -> -0.078076546 | W21: =H21/H20-1 -> 0.070322805 | X21: =I21/I20-1 -> -0.092125526 | ... AC21: =N21/N20-1 -> 0.024289956
A23: Average | B23: =AVERAGE(B$7:B$21) -> 2109.2735 | C23: =AVERAGE(C$7:C$21) -> 3103.7147 | D23: =AVERAGE(D$7:D$21) -> 12548.434 | E23: =AVERAGE(E$7:E$21) -> 21983.182 | F23: =AVERAGE(F$7:F$21) -> 145.85671 | G23: =AVERAGE(G$7:G$21) -> 12559.478 | H23: =AVERAGE(H$7:H$21) -> 453.23754 | I23: =AVERAGE(I$7:I$21) -> 575.34737 | ... N23: =AVERAGE(N$7:N$21) -> 105277.37
A24: Y/Y Change | B24: =B21/B20-1 -> -0.03625747 | C24: =C21/C20-1 -> -0.015528145 | D24: =D21/D20-1 -> 0.093054359 | E24: =E21/E20-1 -> -0.015563579 | F24: =F21/F20-1 -> 0.059305824 | G24: =G21/G20-1 -> -0.078076546 | H24: =H21/H20-1 -> 0.070322805 | I24: =I21/I20-1 -> -0.092125526 | ... N24: =N21/N20-1 -> 0.024289956
A25: 5Y CAGR | B25: =((B21/B16)^(1/5))-1 -> 0.034433731 | C25: =((C21/C16)^(1/5))-1 -> 0.046870782 | D25: =((D21/D16)^(1/5))-1 -> 0.11206528 | E25: =((E21/E16)^(1/5))-1 -> 0.05751399 | F25: =((F21/F16)^(1/5))-1 -> 0.082335833 | G25: =((G21/G16)^(1/5))-1 -> -0.037305128 | H25: =((H21/H16)^(1/5))-1 -> 0.10302151 | I25: =((I21/I16)^(1/5))-1 -> 0.077000712 | ... N25: =((N21/N16)^(1/5))-1 -> 0.058304749
A26: 10Y CAGR | B26: =((B21/B11)^(1/10))-1 -> 0.015212759 | C26: =((C21/C11)^(1/10))-1 -> 0.067481786 | D26: =((D21/D11)^(1/10))-1 -> 0.15682194 | E26: =((E21/E11)^(1/10))-1 -> 0.027236935 | F26: =((F21/F11)^(1/10))-1 -> 0.075878757 | G26: =((G21/G11)^(1/10))-1 -> 0.00046539938 | H26: =((H21/H11)^(1/10))-1 -> 0.087031116 | I26: =((I21/I11)^(1/10))-1 -> 0.067620211 | ... N26: =((N21/N11)^(1/10))-1 -> 0.056937929
A28: Source: Bank of International Settlements (BIS)
A29: Note: EU = European Union, HK = Hong Kong, DM = developed markets, EM = emerging markets. DM/EM exclude countries listed in the chart

Sheet 1-10
A1: Return to the Table of Contents
A3: Global Fixed Income Market Outstanding - Share of Total
A6: (% Total) | B6: Australia | C6: Canada | D6: China | E6: EU | F6: HK | G6: Japan | H6: Singapore | I6: Switzerland | J6: UK | K6: US | L6: DM | M6: EM
A7: ='1-09'!A7 -> 2010 | B7: ='1-09'!B7/'1-09'!$N7 -> 0.023500318 | C7: ='1-09'!C7/'1-09'!$N7 -> 0.023274841 | D7: ='1-09'!D7/'1-09'!$N7 -> 0.03822245 | E7: ='1-09'!E7/'1-09'!$N7 -> 0.26505424 | F7: ='1-09'!F7/'1-09'!$N7 -> 0.0011043094 | G7: ='1-09'!G7/'1-09'!$N7 -> 0.18210223 | H7: ='1-09'!H7/'1-09'!$N7 -> 0.0027305354 | I7: ='1-09'!I7/'1-09'!$N7 -> 0.0063807034 | ... M7: ='1-09'!M7/'1-09'!$N7 -> 0.015239397
A8: ='1-09'!A8 -> 2011 | B8: ='1-09'!B8/'1-09'!$N8 -> 0.024095256 | C8: ='1-09'!C8/'1-09'!$N8 -> 0.02356748 | D8: ='1-09'!D8/'1-09'!$N8 -> 0.042353931 | E8: ='1-09'!E8/'1-09'!$N8 -> 0.25706012 | F8: ='1-09'!F8/'1-09'!$N8 -> 0.0011042793 | G8: ='1-09'!G8/'1-09'!$N8 -> 0.18976565 | H8: ='1-09'!H8/'1-09'!$N8 -> 0.0028913977 | I8: ='1-09'!I8/'1-09'!$N8 -> 0.0050107247 | ... M8: ='1-09'!M8/'1-09'!$N8 -> 0.01480319
A9: ='1-09'!A9 -> 2012 | B9: ='1-09'!B9/'1-09'!$N9 -> 0.025384876 | C9: ='1-09'!C9/'1-09'!$N9 -> 0.025426138 | D9: ='1-09'!D9/'1-09'!$N9 -> 0.05023296 | E9: ='1-09'!E9/'1-09'!$N9 -> 0.25836618 | F9: ='1-09'!F9/'1-09'!$N9 -> 0.0011102413 | G9: ='1-09'!G9/'1-09'!$N9 -> 0.16670001 | H9: ='1-09'!H9/'1-09'!$N9 -> 0.0034487456 | I9: ='1-09'!I9/'1-09'!$N9 -> 0.0050327441 | ... M9: ='1-09'!M9/'1-09'!$N9 -> 0.016438273
A10: ='1-09'!A10 -> 2013 | B10: ='1-09'!B10/'1-09'!$N10 -> 0.023230462 | C10: ='1-09'!C10/'1-09'!$N10 -> 0.026304942 | D10: ='1-09'!D10/'1-09'!$N10 -> 0.058207731 | E10: ='1-09'!E10/'1-09'!$N10 -> 0.26592688 | F10: ='1-09'!F10/'1-09'!$N10 -> 0.0012898031 | G10: ='1-09'!G10/'1-09'!$N10 -> 0.13965665 | H10: ='1-09'!H10/'1-09'!$N10 -> 0.0038882864 | I10: ='1-09'!I10/'1-09'!$N10 -> 0.0054181879 | ... M10: ='1-09'!M10/'1-09'!$N10 -> 0.015760936
A11: ='1-09'!A11 -> 2014 | B11: ='1-09'!B11/'1-09'!$N11 -> 0.023937534 | C11: ='1-09'!C11/'1-09'!$N11 -> 0.026458667 | D11: ='1-09'!D11/'1-09'!$N11 -> 0.069985302 | E11: ='1-09'!E11/'1-09'!$N11 -> 0.2399688 | F11: ='1-09'!F11/'1-09'!$N11 -> 0.0013272815 | G11: ='1-09'!G11/'1-09'!$N11 -> 0.12652619 | H11: ='1-09'!H11/'1-09'!$N11 -> 0.0041895532 | I11: ='1-09'!I11/'1-09'!$N11 -> 0.0051435385 | ... M11: ='1-09'!M11/'1-09'!$N11 -> 0.016765946
A12: ='1-09'!A12 -> 2015 | B12: ='1-09'!B12/'1-09'!$N12 -> 0.02223945 | C12: ='1-09'!C12/'1-09'!$N12 -> 0.03272755 | D12: ='1-09'!D12/'1-09'!$N12 -> 0.091679626 | E12: ='1-09'!E12/'1-09'!$N12 -> 0.21272161 | F12: ='1-09'!F12/'1-09'!$N12 -> 0.0014409203 | G12: ='1-09'!G12/'1-09'!$N12 -> 0.12575824 | H12: ='1-09'!H12/'1-09'!$N12 -> 0.0038116943 | I12: ='1-09'!I12/'1-09'!$N12 -> 0.0051825791 | ... M12: ='1-09'!M12/'1-09'!$N12 -> 0.016718298
A13: ='1-09'!A13 -> 2016 | B13: ='1-09'!B13/'1-09'!$N13 -> 0.021340917 | C13: ='1-09'!C13/'1-09'!$N13 -> 0.033621222 | D13: ='1-09'!D13/'1-09'!$N13 -> 0.10747032 | E13: ='1-09'!E13/'1-09'!$N13 -> 0.20032952 | F13: ='1-09'!F13/'1-09'!$N13 -> 0.0015926895 | G13: ='1-09'!G13/'1-09'!$N13 -> 0.12843524 | H13: ='1-09'!H13/'1-09'!$N13 -> 0.0037285754 | I13: ='1-09'!I13/'1-09'!$N13 -> 0.0051130323 | ... M13: ='1-09'!M13/'1-09'!$N13 -> 0.017578997
A14: ='1-09'!A14 -> 2017 | B14: ='1-09'!B14/'1-09'!$N14 -> 0.021238838 | C14: ='1-09'!C14/'1-09'!$N14 -> 0.034115854 | D14: ='1-09'!D14/'1-09'!$N14 -> 0.12275776 | E14: ='1-09'!E14/'1-09'!$N14 -> 0.2081813 | F14: ='1-09'!F14/'1-09'!$N14 -> 0.0015742713 | G14: ='1-09'!G14/'1-09'!$N14 -> 0.12442216 | H14: ='1-09'!H14/'1-09'!$N14 -> 0.0043039933 | I14: ='1-09'!I14/'1-09'!$N14 -> 0.0050902284 | ... M14: ='1-09'!M14/'1-09'!$N14 -> 0.019167631
A15: ='1-09'!A15 -> 2018 | B15: ='1-09'!B15/'1-09'!$N15 -> 0.018529122 | C15: ='1-09'!C15/'1-09'!$N15 -> 0.030438376 | D15: ='1-09'!D15/'1-09'!$N15 -> 0.12468158 | E15: ='1-09'!E15/'1-09'!$N15 -> 0.18788177 | F15: ='1-09'!F15/'1-09'!$N15 -> 0.0014721921 | G15: ='1-09'!G15/'1-09'!$N15 -> 0.12038819 | H15: ='1-09'!H15/'1-09'!$N15 -> 0.0042605802 | I15: ='1-09'!I15/'1-09'!$N15 -> 0.0049936138 | ... M15: ='1-09'!M15/'1-09'!$N15 -> 0.049806298
A16: ='1-09'!A16 -> 2019 | B16: ='1-09'!B16/'1-09'!$N16 -> 0.017934761 | C16: ='1-09'!C16/'1-09'!$N16 -> 0.030850783 | D16: ='1-09'!D16/'1-09'!$N16 -> 0.13476574 | E16: ='1-09'!E16/'1-09'!$N16 -> 0.18112956 | F16: ='1-09'!F16/'1-09'!$N16 -> 0.0014169192 | G16: ='1-09'!G16/'1-09'!$N16 -> 0.11730506 | H16: ='1-09'!H16/'1-09'!$N16 -> 0.0045105184 | I16: ='1-09'!I16/'1-09'!$N16 -> 0.0052108529 | ... M16: ='1-09'!M16/'1-09'!$N16 -> 0.050344042
A17: ='1-09'!A17 -> 2020 | B17: ='1-09'!B17/'1-09'!$N17 -> 0.019556852 | C17: ='1-09'!C17/'1-09'!$N17 -> 0.030594766 | D17: ='1-09'!D17/'1-09'!$N17 -> 0.14502849 | E17: ='1-09'!E17/'1-09'!$N17 -> 0.19997366 | F17: ='1-09'!F17/'1-09'!$N17 -> 0.0012098116 | G17: ='1-09'!G17/'1-09'!$N17 -> 0.1146759 | H17: ='1-09'!H17/'1-09'!$N17 -> 0.0042421313 | I17: ='1-09'!I17/'1-09'!$N17 -> 0.0052763911 | ... M17: ='1-09'!M17/'1-09'!$N17 -> 0.043386447
A18: ='1-09'!A18 -> 2021 | B18: ='1-09'!B18/'1-09'!$N18 -> 0.018185285 | C18: ='1-09'!C18/'1-09'!$N18 -> 0.030675672 | D18: ='1-09'!D18/'1-09'!$N18 -> 0.16426203 | E18: ='1-09'!E18/'1-09'!$N18 -> 0.18789771 | F18: ='1-09'!F18/'1-09'!$N18 -> 0.0013334979 | G18: ='1-09'!G18/'1-09'!$N18 -> 0.10070475 | H18: ='1-09'!H18/'1-09'!$N18 -> 0.0046106172 | I18: ='1-09'!I18/'1-09'!$N18 -> 0.0052768635 | ... M18: ='1-09'!M18/'1-09'!$N18 -> 0.042774567
... A21: ='1-09'!A21 -> 2024 | B21: ='1-09'!B21/'1-09'!$N21 -> 0.016001299 | C21: ='1-09'!C21/'1-09'!$N21 -> 0.029219842 | D21: ='1-09'!D21/'1-09'!$N21 -> 0.17265421 | E21: ='1-09'!E21/'1-09'!$N21 -> 0.18045388 | F21: ='1-09'!F21/'1-09'!$N21 -> 0.0015852638 | G21: ='1-09'!G21/'1-09'!$N21 -> 0.073064483 | H21: ='1-09'!H21/'1-09'!$N21 -> 0.0055474403 | I21: ='1-09'!I21/'1-09'!$N21 -> 0.0056876785 | ... M21: ='1-09'!M21/'1-09'!$N21 -> 0.047984282
A23: Average | B23: =AVERAGE(B$7:B$21) -> 0.020624413 | C23: =AVERAGE(C$7:C$21) -> 0.029212263 | D23: =AVERAGE(D$7:D$21) -> 0.10976037 | E23: =AVERAGE(E$7:E$21) -> 0.21432076 | F23: =AVERAGE(F$7:F$21) -> 0.0013696527 | G23: =AVERAGE(G$7:G$21) -> 0.12540296 | H23: =AVERAGE(H$7:H$21) -> 0.0041595506 | I23: =AVERAGE(I$7:I$21) -> 0.0054206069 | ... M23: =AVERAGE(M$7:M$21) -> 0.03089291
A24: Y/Y Change | B24: =B21-B20 -> -0.0010052866 | C24: =C21-C20 -> -0.0011818302 | D24: =D21-D20 -> 0.010861732 | E24: =E21-E20 -> -0.0073054233 | F24: =F21-F20 -> 5.2401663e-05 | G24: =G21-G20 -> -0.0081127729 | H24: =H21-H20 -> 0.00023858642 | I24: =I21-I20 -> -0.0007293231 | ... M24: =M21-M20 -> -0.0018411731
A26: Source: Bank of International Settlements (BIS)
A27: Note: EU = European Union, HK = Hong Kong, DM = developed markets, EM = emerging markets. DM/EM exclude countries listed in the chart

Sheet 1-11
A1: Return to the Table of Contents
A3: Global Equity Markets Capitalization - Value
A6: ($B) | B6: Australia | C6: Canada | D6: China | E6: EU | F6: HK | G6: India | H6: Japan | I6: Singapore | J6: UK | K6: US | L6: DM | M6: EM | N6: Total | P6: (Y/Y) | Q6: =B6 -> Australia | R6: =C6 -> Canada | S6: =D6 -> China | T6: =E6 -> EU | U6: =F6 -> HK | V6: =G6 -> India | W6: =H6 -> Japan | X6: =I6 -> Singapore | ... AC6: =N6 -> Total
A7: 2010 | B7: 1454.4906 | C7: 2170.4327 | D7: 4027.8403 | E7: 7160.932 | F7: 2711.3162 | G7: 3228.4548 | H7: 4099.6056 | I7: 647.22641 | J7: 3613.064 | K7: 17283.452 | L7: 4387.419 | M7: 6047.2572 | N7: 56831.49
A8: 2011 | B8: 1198.1874 | C8: 1912.1219 | D8: 3412.1083 | E8: 5962.0032 | F8: 2258.0352 | G8: 1992.4523 | H8: 3540.7636 | I8: 598.2727 | J8: 3266.4181 | K8: 15640.707 | L8: 3798.9036 | M8: 6009.1254 | N8: 49589.099 | P8: =A8 -> 2011 | Q8: =B8/B7-1 -> -0.17621507 | R8: =C8/C7-1 -> -0.11901351 | S8: =D8/D7-1 -> -0.15286902 | T8: =E8/E7-1 -> -0.16742635 | U8: =F8/F7-1 -> -0.16718115 | V8: =G8/G7-1 -> -0.38284645 | W8: =H8/H7-1 -> -0.13631604 | X8: =I8/I7-1 -> -0.075636144 | ... AC8: =N8/N7-1 -> -0.12743624
A9: 2012 | B9: 1386.874 | C9: 2058.8387 | D9: 3697.376 | E9: 6847.0666 | F9: 2831.9459 | G9: 2497.8275 | H9: 3680.9993 | I9: 765.07796 | J9: 3396.5049 | K9: 18668.333 | L9: 4449.0732 | M9: 5869.224 | N9: 56149.141 | P9: =A9 -> 2012 | Q9: =B9/B8-1 -> 0.15747666 | R9: =C9/C8-1 -> 0.076729825 | S9: =D9/D8-1 -> 0.083604542 | T9: =E9/E8-1 -> 0.14845066 | U9: =F9/F8-1 -> 0.25416373 | V9: =G9/G8-1 -> 0.25364478 | W9: =H9/H8-1 -> 0.039606061 | X9: =I9/I8-1 -> 0.27881142 | ... AC9: =N9/N8-1 -> 0.13228799
A10: 2013 | B10: 1365.9581 | C10: 2113.8218 | D10: 3949.1435 | E10: 8611.5743 | F10: 3100.7771 | G10: 2251.7863 | H10: 4543.1691 | I10: 744.41323 | J10: 4428.9753 | K10: 24034.854 | L10: 5240.3218 | M10: 5825.4815 | N10: 66210.276 | P10: =A10 -> 2013 | Q10: =B10/B9-1 -> -0.015081277 | R10: =C10/C9-1 -> 0.026705871 | S10: =D10/D9-1 -> 0.068093547 | T10: =E10/E9-1 -> 0.25770273 | U10: =F10/F9-1 -> 0.094928118 | V10: =G10/G9-1 -> -0.098502048 | W10: =H10/H9-1 -> 0.23422168 | X10: =I10/I9-1 -> -0.027009966 | ... AC10: =N10/N9-1 -> 0.1791859
A11: 2014 | B11: 1288.7546 | C11: 2095.4207 | D11: 6004.9477 | E11: 7844.2518 | F11: 3233.0306 | G11: 3079.2248 | H11: 4377.9944 | I11: 752.83101 | J11: 4012.8823 | K11: 26330.589 | L11: 5292.9346 | M11: 5336.4312 | N11: 69649.293 | P11: =A11 -> 2014 | Q11: =B11/B10-1 -> -0.056519675 | R11: =C11/C10-1 -> -0.0087051284 | S11: =D11/D10-1 -> 0.52056963 | T11: =E11/E10-1 -> -0.089103626 | U11: =F11/F10-1 -> 0.042651707 | V11: =G11/G10-1 -> 0.36745869 | W11: =H11/H10-1 -> -0.036356729 | X11: =I11/I10-1 -> 0.01130794 | ... AC11: =N11/N10-1 -> 0.051940835
A12: 2015 | B12: 1187.2031 | C12: 1593.4561 | D12: 8188.0193 | E12: 7580.0194 | F12: 3184.8742 | G12: 3001.3053 | H12: 4894.9191 | I12: 639.9559 | J12: 3878.7742 | K12: 25067.54 | L12: 5107.2407 | M12: 4251.649 | N12: 68574.956 | P12: =A12 -> 2015 | Q12: =B12/B11-1 -> -0.078798212 | R12: =C12/C11-1 -> -0.23955312 | S12: =D12/D11-1 -> 0.36354549 | T12: =E12/E11-1 -> -0.03368484 | U12: =F12/F11-1 -> -0.014895117 | V12: =G12/G11-1 -> -0.025304895 | W12: =H12/H11-1 -> 0.11807342 | X12: =I12/I11-1 -> -0.14993419 | ... AC12: =N12/N11-1 -> -0.015424947
A13: 2016 | B13: 1316.9308 | C13: 2041.5338 | D13: 7320.7384 | E13: 7669.5916 | F13: 3193.2355 | G13: 3095.5379 | H13: 5061.5372 | I13: 649.45588 | J13: 3467.434 | K13: 27352.201 | L13: 5274.6509 | M13: 5107.0681 | N13: 71549.915 | P13: =A13 -> 2016 | Q13: =B13/B12-1 -> 0.10927173 | R13: =C13/C12-1 -> 0.28119864 | S13: =D13/D12-1 -> -0.10592072 | T13: =E13/E12-1 -> 0.01181688 | U13: =F13/F12-1 -> 0.0026253219 | V13: =G13/G12-1 -> 0.031397189 | W13: =H13/H12-1 -> 0.034038983 | X13: =I13/I12-1 -> 0.014844742 | ... AC13: =N13/N12-1 -> 0.043382583
A14: 2017 | B14: 1508.5652 | C14: 2367.0599 | D14: 8711.2672 | E14: 9787.6414 | F14: 4350.5146 | G14: 4683.0291 | H14: 6222.8252 | I14: 787.25533 | J14: 4455.4081 | K14: 32120.703 | L14: 6436.2554 | M14: 6236.7158 | N14: 87667.24 | P14: =A14 -> 2017 | Q14: =B14/B13-1 -> 0.14551594 | R14: =C14/C13-1 -> 0.15945174 | S14: =D14/D13-1 -> 0.1899438 | T14: =E14/E13-1 -> 0.27616201 | U14: =F14/F13-1 -> 0.36241582 | V14: =G14/G13-1 -> 0.51283212 | W14: =H14/H13-1 -> 0.22943386 | X14: =I14/I13-1 -> 0.21217677 | ... AC14: =N14/N13-1 -> 0.22525988
A15: 2018 | B15: 1262.8003 | C15: 1937.9027 | D15: 6324.8798 | E15: 8136.0409 | F15: 3819.2154 | G15: 4139.8201 | H15: 5296.8111 | I15: 687.25716 | J15: 3637.996 | K15: 30436.313 | L15: 5661.4323 | M15: 5481.097 | N15: 76821.566 | P15: =A15 -> 2018 | Q15: =B15/B14-1 -> -0.16291304 | R15: =C15/C14-1 -> -0.18130391 | S15: =D15/D14-1 -> -0.27394263 | T15: =E15/E14-1 -> -0.16874347 | U15: =F15/F14-1 -> -0.1221233 | V15: =G15/G14-1 -> -0.11599523 | W15: =H15/H14-1 -> -0.14880928 | X15: =I15/I14-1 -> -0.12702127 | ... AC15: =N15/N14-1 -> -0.12371411
A16: 2019 | B16: 1487.5985 | C16: 2409.0985 | D16: 8569.5122 | E16: 9733.6389 | F16: 4899.2346 | G16: 2162.7029 | H16: 6191.0733 | I16: 697.27133 | J16: 4182.8734 | K16: 34085.727 | L16: 8505.54 | M16: 6657.1024 | N16: 89581.373 | P16: =A16 -> 2019 | Q16: =B16/B15-1 -> 0.17801567 | R16: =C16/C15-1 -> 0.24314731 | S16: =D16/D15-1 -> 0.35488934 | T16: =E16/E15-1 -> 0.19636062 | U16: =F16/F15-1 -> 0.28278562 | V16: =G16/G15-1 -> -0.47758529 | W16: =H16/H15-1 -> 0.1688303 | X16: =I16/I15-1 -> 0.014571212 | ... AC16: =N16/N15-1 -> 0.16609669
A17: 2020 | B17: 1720.5562 | C17: 2641.455 | D17: 12276.766 | E17: 11148.077 | F17: 6130.4204 | G17: 2552.4638 | H17: 6718.2195 | I17: 652.61466 | J17: 4045.5971 | K17: 41569.862 | L17: 9571.4745 | M17: 7542.2976 | N17: 106569.8 | P17: =A17 -> 2020 | Q17: =B17/B16-1 -> 0.15659984 | R17: =C17/C16-1 -> 0.096449562 | S17: =D17/D16-1 -> 0.4326097 | T17: =E17/E16-1 -> 0.14531447 | U17: =F17/F16-1 -> 0.25130167 | V17: =G17/G16-1 -> 0.18021933 | W17: =H17/H16-1 -> 0.085146183 | X17: =I17/I16-1 -> -0.064044896 | ... AC17: =N17/N16-1 -> 0.18964245
A18: 2021 | B18: 1887.4008 | C18: 3302.8168 | D18: 14437.446 | E18: 13811.02 | F18: 5434.1771 | G18: 3548.0185 | H18: 6544.3035 | I18: 663.38848 | J18: 3799.4592 | K18: 48548.538 | L18: 10964.99 | M18: 7860.0954 | N18: 120801.65 | P18: =A18 -> 2021 | Q18: =B18/B17-1 -> 0.096971324 | R18: =C18/C17-1 -> 0.25037783 | S18: =D18/D17-1 -> 0.17599748 | T18: =E18/E17-1 -> 0.23887007 | U18: =F18/F17-1 -> -0.11357187 | V18: =G18/G17-1 -> 0.39003675 | W18: =H18/H17-1 -> -0.025887225 | X18: =I18/I17-1 -> 0.016508701 | ... AC18: =N18/N17-1 -> 0.13354486
A19: 2022 | B19: 1679.1719 | C19: 2760.8714 | D19: 11469.346 | E19: 10992.759 | F19: 4566.8091 | G19: 3387.3667 | H19: 5380.4755 | I19: 619.36168 | J19: 3095.9834 | K19: 40297.98 | L19: 9630.5467 | M19: 7634.6146 | N19: 101515.29 | P19: =A19 -> 2022 | Q19: =B19/B18-1 -> -0.11032572 | R19: =C19/C18-1 -> -0.16408584 | S19: =D19/D18-1 -> -0.20558345 | T19: =E19/E18-1 -> -0.2040588 | U19: =F19/F18-1 -> -0.15961351 | V19: =G19/G18-1 -> -0.045279302 | W19: =H19/H18-1 -> -0.17783833 | X19: =I19/I18-1 -> -0.066366543 | ... AC19: =N19/N18-1 -> -0.15965317
A20: 2023 | B20: 1788.726 | C20: 3099.135 | D20: 10935.846 | E20: 12621.92 | F20: 3974.7835 | G20: 4340.1308 | H20: 6149.2002 | I20: 608.30629 | J20: 4499.7613 | K20: 48979.398 | L20: 11053.135 | M20: 8464.7616 | N20: 116515.1 | P20: =A20 -> 2023 | Q20: =B20/B19-1 -> 0.06524289 | R20: =C20/C19-1 -> 0.12252062 | S20: =D20/D19-1 -> -0.046515337 | T20: =E20/E19-1 -> 0.14820305 | U20: =F20/F19-1 -> -0.12963659 | V20: =G20/G19-1 -> 0.28126985 | W20: =H20/H19-1 -> 0.14287301 | X20: =I20/I19-1 -> -0.017849651 | ... AC20: =N20/N19-1 -> 0.14775918
A21: 2024 | B21: 1737.1063 | C21: 3374.4772 | D21: 11755.758 | E21: 11055.718 | F21: 4549.7208 | G21: 5131.3974 | H21: 6310.6814 | I21: 637.63027 | J21: 4399.4231 | K21: 62185.685 | L21: 10811.295 | M21: 4744.0967 | N21: 126692.99 | P21: =A21 -> 2024 | Q21: =B21/B20-1 -> -0.028858333 | R21: =C21/C20-1 -> 0.088844838 | S21: =D21/D20-1 -> 0.074974756 | T21: =E21/E20-1 -> -0.12408588 | U21: =F21/F20-1 -> 0.14464619 | V21: =G21/G20-1 -> 0.18231401 | W21: =H21/H20-1 -> 0.026260529 | X21: =I21/I20-1 -> 0.048205946 | ... AC21: =N21/N20-1 -> 0.087352508
A23: Average | B23: =AVERAGE(B$7:B$21) -> 1484.6882 | C23: =AVERAGE(C$7:C$21) -> 2391.8962 | D23: =AVERAGE(D$7:D$21) -> 8072.0663 | E23: =AVERAGE(E$7:E$21) -> 9264.1503 | F23: =AVERAGE(F$7:F$21) -> 3882.5393 | G23: =AVERAGE(G$7:G$21) -> 3272.7679 | H23: =AVERAGE(H$7:H$21) -> 5267.5052 | I23: =AVERAGE(I$7:I$21) -> 676.68789 | ... N23: =AVERAGE(N$7:N$21) -> 84314.612
A24: Y/Y Change | B24: =B21/B20-1 -> -0.028858333 | C24: =C21/C20-1 -> 0.088844838 | D24: =D21/D20-1 -> 0.074974756 | E24: =E21/E20-1 -> -0.12408588 | F24: =F21/F20-1 -> 0.14464619 | G24: =G21/G20-1 -> 0.18231401 | H24: =H21/H20-1 -> 0.026260529 | I24: =I21/I20-1 -> 0.048205946 | ... N24: =N21/N20-1 -> 0.087352508
A25: 5Y CAGR | B25: =((B21/B16)^(1/5))-1 -> 0.03149739 | C25: =((C21/C16)^(1/5))-1 -> 0.069720666 | D25: =((D21/D16)^(1/5))-1 -> 0.065268064 | E25: =((E21/E16)^(1/5))-1 -> 0.02579917 | F25: =((F21/F16)^(1/5))-1 -> -0.014693605 | G25: =((G21/G16)^(1/5))-1 -> 0.18863293 | H25: =((H21/H16)^(1/5))-1 -> 0.0038343725 | I25: =((I21/I16)^(1/5))-1 -> -0.017724248 | ... N25: =((N21/N16)^(1/5))-1 -> 0.071783269
A26: 10Y CAGR | B26: =((B21/B11)^(1/10))-1 -> 0.030304546 | C26: =((C21/C11)^(1/10))-1 -> 0.048802048 | D26: =((D21/D11)^(1/10))-1 -> 0.069483628 | E26: =((E21/E11)^(1/10))-1 -> 0.034912285 | F26: =((F21/F11)^(1/10))-1 -> 0.034754903 | G26: =((G21/G11)^(1/10))-1 -> 0.052396574 | H26: =((H21/H11)^(1/10))-1 -> 0.037242028 | I26: =((I21/I11)^(1/10))-1 -> -0.016471062 | ... N26: =((N21/N11)^(1/10))-1 -> 0.061655434
A28: Source: World Federation of Exchanges (WFE)
A29: Note: Market capitalization of listed domestic companies. EU = European Union, HK = Hong Kong, DM = developed markets, EM = emerging markets, DM/EM exclude countries listed in the table

Sheet 1-12
A1: Return to the Table of Contents
A3: Global Equity Markets Capitalization - Share of Total
A6: (% Total) | B6: ='1-11'!B6 -> Australia | C6: ='1-11'!C6 -> Canada | D6: ='1-11'!D6 -> China | E6: ='1-11'!E6 -> EU | F6: ='1-11'!F6 -> HK | G6: ='1-11'!G6 -> India | H6: ='1-11'!H6 -> Japan | I6: ='1-11'!I6 -> Singapore | ... M6: ='1-11'!M6 -> EM
A7: ='1-11'!A7 -> 2010 | B7: ='1-11'!B7/'1-11'!$N7 -> 0.025593039 | C7: ='1-11'!C7/'1-11'!$N7 -> 0.038190671 | D7: ='1-11'!D7/'1-11'!$N7 -> 0.070873388 | E7: ='1-11'!E7/'1-11'!$N7 -> 0.12600289 | F7: ='1-11'!F7/'1-11'!$N7 -> 0.04770799 | G7: ='1-11'!G7/'1-11'!$N7 -> 0.056807498 | H7: ='1-11'!H7/'1-11'!$N7 -> 0.072136162 | I7: ='1-11'!I7/'1-11'!$N7 -> 0.011388517 | ... M7: ='1-11'!M7/'1-11'!$N7 -> 0.1064068
A8: ='1-11'!A8 -> 2011 | B8: ='1-11'!B8/'1-11'!$N8 -> 0.024162315 | C8: ='1-11'!C8/'1-11'!$N8 -> 0.03855932 | D8: ='1-11'!D8/'1-11'!$N8 -> 0.068807628 | E8: ='1-11'!E8/'1-11'!$N8 -> 0.1202281 | F8: ='1-11'!F8/'1-11'!$N8 -> 0.045534911 | G8: ='1-11'!G8/'1-11'!$N8 -> 0.04017924 | H8: ='1-11'!H8/'1-11'!$N8 -> 0.071402055 | I8: ='1-11'!I8/'1-11'!$N8 -> 0.012064601 | ... M8: ='1-11'!M8/'1-11'!$N8 -> 0.12117835
A9: ='1-11'!A9 -> 2012 | B9: ='1-11'!B9/'1-11'!$N9 -> 0.024699825 | C9: ='1-11'!C9/'1-11'!$N9 -> 0.036667323 | D9: ='1-11'!D9/'1-11'!$N9 -> 0.0658492 | E9: ='1-11'!E9/'1-11'!$N9 -> 0.12194428 | F9: ='1-11'!F9/'1-11'!$N9 -> 0.050436138 | G9: ='1-11'!G9/'1-11'!$N9 -> 0.044485586 | H9: ='1-11'!H9/'1-11'!$N9 -> 0.065557535 | I9: ='1-11'!I9/'1-11'!$N9 -> 0.013625818 | ... M9: ='1-11'!M9/'1-11'!$N9 -> 0.10452919
A10: ='1-11'!A10 -> 2013 | B10: ='1-11'!B10/'1-11'!$N10 -> 0.020630606 | C10: ='1-11'!C10/'1-11'!$N10 -> 0.031925887 | D10: ='1-11'!D10/'1-11'!$N10 -> 0.059645477 | E10: ='1-11'!E10/'1-11'!$N10 -> 0.13006402 | F10: ='1-11'!F10/'1-11'!$N10 -> 0.046832265 | G10: ='1-11'!G10/'1-11'!$N10 -> 0.03400962 | H10: ='1-11'!H10/'1-11'!$N10 -> 0.068617282 | I10: ='1-11'!I10/'1-11'!$N10 -> 0.011243168 | ... M10: ='1-11'!M10/'1-11'!$N10 -> 0.087984553
A11: ='1-11'!A11 -> 2014 | B11: ='1-11'!B11/'1-11'!$N11 -> 0.018503485 | C11: ='1-11'!C11/'1-11'!$N11 -> 0.030085312 | D11: ='1-11'!D11/'1-11'!$N11 -> 0.086216922 | E11: ='1-11'!E11/'1-11'!$N11 -> 0.112625 | F11: ='1-11'!F11/'1-11'!$N11 -> 0.046418714 | G11: ='1-11'!G11/'1-11'!$N11 -> 0.044210424 | H11: ='1-11'!H11/'1-11'!$N11 -> 0.0628577 | I11: ='1-11'!I11/'1-11'!$N11 -> 0.010808882 | ... M11: ='1-11'!M11/'1-11'!$N11 -> 0.076618598
A12: ='1-11'!A12 -> 2015 | B12: ='1-11'!B12/'1-11'!$N12 -> 0.017312487 | C12: ='1-11'!C12/'1-11'!$N12 -> 0.023236706 | D12: ='1-11'!D12/'1-11'!$N12 -> 0.11940247 | E12: ='1-11'!E12/'1-11'!$N12 -> 0.11053626 | F12: ='1-11'!F12/'1-11'!$N12 -> 0.046443693 | G12: ='1-11'!G12/'1-11'!$N12 -> 0.043766785 | H12: ='1-11'!H12/'1-11'!$N12 -> 0.071380565 | I12: ='1-11'!I12/'1-11'!$N12 -> 0.0093322101 | ... M12: ='1-11'!M12/'1-11'!$N12 -> 0.062000025
A13: ='1-11'!A13 -> 2016 | B13: ='1-11'!B13/'1-11'!$N13 -> 0.018405763 | C13: ='1-11'!C13/'1-11'!$N13 -> 0.028533001 | D13: ='1-11'!D13/'1-11'!$N13 -> 0.10231652 | E13: ='1-11'!E13/'1-11'!$N13 -> 0.10719218 | F13: ='1-11'!F13/'1-11'!$N13 -> 0.044629481 | G13: ='1-11'!G13/'1-11'!$N13 -> 0.043264033 | H13: ='1-11'!H13/'1-11'!$N13 -> 0.070741345 | I13: ='1-11'!I13/'1-11'!$N13 -> 0.0090769623 | ... M13: ='1-11'!M13/'1-11'!$N13 -> 0.071377696
A14: ='1-11'!A14 -> 2017 | B14: ='1-11'!B14/'1-11'!$N14 -> 0.017207856 | C14: ='1-11'!C14/'1-11'!$N14 -> 0.027000507 | D14: ='1-11'!D14/'1-11'!$N14 -> 0.099367417 | E14: ='1-11'!E14/'1-11'!$N14 -> 0.11164537 | F14: ='1-11'!F14/'1-11'!$N14 -> 0.049625317 | G14: ='1-11'!G14/'1-11'!$N14 -> 0.053418234 | H14: ='1-11'!H14/'1-11'!$N14 -> 0.070982333 | I14: ='1-11'!I14/'1-11'!$N14 -> 0.0089800401 | ... M14: ='1-11'!M14/'1-11'!$N14 -> 0.07114078
A15: ='1-11'!A15 -> 2018 | B15: ='1-11'!B15/'1-11'!$N15 -> 0.016438096 | C15: ='1-11'!C15/'1-11'!$N15 -> 0.025226025 | D15: ='1-11'!D15/'1-11'!$N15 -> 0.082332086 | E15: ='1-11'!E15/'1-11'!$N15 -> 0.10590829 | F15: ='1-11'!F15/'1-11'!$N15 -> 0.049715407 | G15: ='1-11'!G15/'1-11'!$N15 -> 0.053888775 | H15: ='1-11'!H15/'1-11'!$N15 -> 0.068949533 | I15: ='1-11'!I15/'1-11'!$N15 -> 0.0089461488 | ... M15: ='1-11'!M15/'1-11'!$N15 -> 0.071348416
A16: ='1-11'!A16 -> 2019 | B16: ='1-11'!B16/'1-11'!$N16 -> 0.016606114 | C16: ='1-11'!C16/'1-11'!$N16 -> 0.026892851 | D16: ='1-11'!D16/'1-11'!$N16 -> 0.095661763 | E16: ='1-11'!E16/'1-11'!$N16 -> 0.10865695 | F16: ='1-11'!F16/'1-11'!$N16 -> 0.054690327 | G16: ='1-11'!G16/'1-11'!$N16 -> 0.024142328 | H16: ='1-11'!H16/'1-11'!$N16 -> 0.069111167 | I16: ='1-11'!I16/'1-11'!$N16 -> 0.0077836642 | ... M16: ='1-11'!M16/'1-11'!$N16 -> 0.074313466
A17: ='1-11'!A17 -> 2020 | B17: ='1-11'!B17/'1-11'!$N17 -> 0.016144875 | C17: ='1-11'!C17/'1-11'!$N17 -> 0.024786149 | D17: ='1-11'!D17/'1-11'!$N17 -> 0.11519929 | E17: ='1-11'!E17/'1-11'!$N17 -> 0.10460822 | F17: ='1-11'!F17/'1-11'!$N17 -> 0.057524929 | G17: ='1-11'!G17/'1-11'!$N17 -> 0.023951098 | H17: ='1-11'!H17/'1-11'!$N17 -> 0.063040554 | I17: ='1-11'!I17/'1-11'!$N17 -> 0.0061238234 | ... M17: ='1-11'!M17/'1-11'!$N17 -> 0.070773308
A18: ='1-11'!A18 -> 2021 | B18: ='1-11'!B18/'1-11'!$N18 -> 0.015623965 | C18: ='1-11'!C18/'1-11'!$N18 -> 0.027340825 | D18: ='1-11'!D18/'1-11'!$N18 -> 0.11951365 | E18: ='1-11'!E18/'1-11'!$N18 -> 0.11432807 | F18: ='1-11'!F18/'1-11'!$N18 -> 0.044984294 | G18: ='1-11'!G18/'1-11'!$N18 -> 0.029370612 | H18: ='1-11'!H18/'1-11'!$N18 -> 0.054173956 | I18: ='1-11'!I18/'1-11'!$N18 -> 0.0054915513 | ... M18: ='1-11'!M18/'1-11'!$N18 -> 0.065066124
... A21: ='1-11'!A21 -> 2024 | B21: ='1-11'!B21/'1-11'!$N21 -> 0.013711148 | C21: ='1-11'!C21/'1-11'!$N21 -> 0.026635074 | D21: ='1-11'!D21/'1-11'!$N21 -> 0.092789333 | E21: ='1-11'!E21/'1-11'!$N21 -> 0.087263849 | F21: ='1-11'!F21/'1-11'!$N21 -> 0.035911385 | G21: ='1-11'!G21/'1-11'!$N21 -> 0.040502616 | H21: ='1-11'!H21/'1-11'!$N21 -> 0.049810818 | I21: ='1-11'!I21/'1-11'!$N21 -> 0.0050328773 | ... M21: ='1-11'!M21/'1-11'!$N21 -> 0.037445613
A23: Average | B23: =AVERAGE(B$7:B$21) -> 0.018462169 | C23: =AVERAGE(C$7:C$21) -> 0.029258322 | D23: =AVERAGE(D$7:D$21) -> 0.092320958 | E23: =AVERAGE(E$7:E$21) -> 0.11184126 | F23: =AVERAGE(F$7:F$21) -> 0.046637011 | G23: =AVERAGE(G$7:G$21) -> 0.040174294 | H23: =AVERAGE(H$7:H$21) -> 0.064302575 | I23: =AVERAGE(I$7:I$21) -> 0.0087480178 | ... M23: =AVERAGE(M$7:M$21) -> 0.077869264
A24: Y/Y Change | B24: =B21-B20 -> -0.0016407328 | C24: =C21-C20 -> 3.6505046e-05 | D24: =D21-D20 -> -0.0010684189 | E24: =E21-E20 -> -0.021064768 | F24: =F21-F20 -> 0.0017974946 | G24: =G21-G20 -> 0.003253103 | H24: =H21-H20 -> -0.0029651744 | I24: =I21-I20 -> -0.0001879591 | ... M24: =M21-M20 -> -0.035203867
A26: Source: World Federation of Exchanges (WFE)
A27: Note: Market capitalization of listed domestic companies. EU = European Union, HK = Hong Kong, DM = developed markets, EM = emerging markets, DM/EM exclude countries listed in the table

Sheet 1-13
A1: Return to the Table of Contents
A3: Global Derivatives Market Outstanding - Value
A6: ($B) | B6: Exchange Traded | C6: Over-the-Counter | D6: Total | F6: (Y/Y) | G6: =B6 -> Exchange Traded | H6: =C6 -> Over-the-Counter | I6: =D6 -> Total
A7: 2010 | B7: 62309.862 | C7: 601042.83 | D7: 663352.69
A8: 2011 | B8: 53692.893 | C8: 634260.22 | D8: 687953.11 | F8: =A8 -> 2011 | G8: =B8/B7-1 -> -0.13829222 | H8: =C8/C7-1 -> 0.055266253 | I8: =D8/D7-1 -> 0.037084973
A9: 2012 | B9: 49033.173 | C9: 622387.77 | D9: 671420.94 | F9: =A9 -> 2012 | G9: =B9/B8-1 -> -0.08678467 | H9: =C9/C8-1 -> -0.018718569 | I9: =D9/D8-1 -> -0.024030946
A10: 2013 | B10: 57459.403 | C10: 710092.33 | D10: 767551.73 | F10: =A10 -> 2013 | G10: =B10/B9-1 -> 0.17184754 | H10: =C10/C9-1 -> 0.14091625 | I10: =D10/D9-1 -> 0.14317513
A11: 2014 | B11: 57594.217 | C11: 627786.02 | D11: 685380.24 | F11: =A11 -> 2014 | G11: =B11/B10-1 -> 0.0023462478 | H11: =C11/C10-1 -> -0.1159093 | I11: =D11/D10-1 -> -0.10705661
A12: 2015 | B12: 63485.847 | C12: 492536.17 | D12: 556022.02 | F12: =A12 -> 2015 | G12: =B12/B11-1 -> 0.10229551 | H12: =C12/C11-1 -> -0.21543941 | I12: =D12/D11-1 -> -0.18873935
A13: 2016 | B13: 67244.869 | C13: 482421.06 | D13: 549665.92 | F13: =A13 -> 2016 | G13: =B13/B12-1 -> 0.059210394 | H13: =C13/C12-1 -> -0.020536803 | I13: =D13/D12-1 -> -0.011431375
A14: 2017 | B14: 80984.073 | C14: 531911.06 | D14: 612895.13 | F14: =A14 -> 2017 | G14: =B14/B13-1 -> 0.20431602 | H14: =C14/C13-1 -> 0.10258674 | I14: =D14/D13-1 -> 0.11503207
A15: 2018 | B15: 94849.688 | C15: 544383.32 | D15: 639233.01 | F15: =A15 -> 2018 | G15: =B15/B14-1 -> 0.1712141 | H15: =C15/C14-1 -> 0.023448023 | I15: =D15/D14-1 -> 0.042972894
A16: 2019 | B16: 95812.809 | C16: 558512.72 | D16: 654325.53 | F16: =A16 -> 2019 | G16: =B16/B15-1 -> 0.010154182 | H16: =C16/C15-1 -> 0.025954865 | I16: =D16/D15-1 -> 0.023610353
A17: 2020 | B17: 65949.725 | C17: 582055.35 | D17: 648005.07 | F17: =A17 -> 2020 | G17: =B17/B16-1 -> -0.31168154 | H17: =C17/C16-1 -> 0.04215236 | I17: =D17/D16-1 -> -0.0096594963
A18: 2021 | B18: 80091.782 | C18: 598415.95 | D18: 678507.73 | F18: =A18 -> 2021 | G18: =B18/B17-1 -> 0.21443694 | H18: =C18/C17-1 -> 0.028108331 | I18: =D18/D17-1 -> 0.04707164
A19: 2022 | B19: 80641.649 | C19: 617991.29 | D19: 698632.94 | F19: =A19 -> 2022 | G19: =B19/B18-1 -> 0.0068654609 | H19: =C19/C18-1 -> 0.032711926 | I19: =D19/D18-1 -> 0.029660982
... A21: 2024 | B21: 88347.276 | C21: 699476.34 | D21: 787823.61 | F21: =A21 -> 2024 | G21: =B21/B20-1 -> 0.013399202 | H21: =C21/C20-1 -> 0.048598455 | I21: =D21/D20-1 -> 0.044529921
A23: Average | B23: =AVERAGE(B$7:B$21) -> 72311.761 | C23: =AVERAGE(C$7:C$21) -> 598022.05 | D23: =AVERAGE(D$7:D$21) -> 670333.81
A24: Y/Y Change | B24: =B21/B20-1 -> 0.013399202 | C24: =C21/C20-1 -> 0.048598455 | D24: =D21/D20-1 -> 0.044529921
A25: 5Y CAGR | B25: =((B21/B16)^(1/5))-1 -> -0.0160933 | C25: =((C21/C16)^(1/5))-1 -> 0.046039277 | D25: =((D21/D16)^(1/5))-1 -> 0.037831925
A26: 10Y CAGR | B26: =((B21/B11)^(1/10))-1 -> 0.043713807 | C26: =((C21/C11)^(1/10))-1 -> 0.010871933 | D26: =((D21/D11)^(1/10))-1 -> 0.01402752
A28: Source: Bank for International Settlements (BIS)
A29: Note: Notional principal value. Includes interest rates, foreign exchange, equity linked, commodities, credit, and credit default swaps

Sheet 1-14
A1: Return to the Table of Contents
A3: Global Investment Banking Net Revenues by Product - Charts

Sheet 1-17
A1: Return to the Table of Contents
A3: US Holdings of Foreign Securities
A6: ($B) | B6: Stocks | C6: Bonds | D6: Total | F6: (Y/Y) | G6: Stocks | H6: Bonds | I6: Total
A7: 2010 | B7: 4900.246 | C7: 1928.141 | D7: =SUM(B7:C7) -> 6828.387
A8: 2011 | B8: 4501.438 | C8: 2132.511 | D8: =SUM(B8:C8) -> 6633.949 | F8: =A8 -> 2011 | G8: =B8/B7-1 -> -0.081385302 | H8: =C8/C7-1 -> 0.10599329 | I8: =D8/D7-1 -> -0.028474953
A9: 2012 | B9: 5321.857 | C9: 2358.084 | D9: =SUM(B9:C9) -> 7679.941 | F9: =A9 -> 2012 | G9: =B9/B8-1 -> 0.18225709 | H9: =C9/C8-1 -> 0.10577812 | I9: =D9/D8-1 -> 0.1576726
A10: 2013 | B10: 6472.877 | C10: 2388.205 | D10: =SUM(B10:C10) -> 8861.082 | F10: =A10 -> 2013 | G10: =B10/B9-1 -> 0.21628165 | H10: =C10/C9-1 -> 0.012773506 | I10: =D10/D9-1 -> 0.15379558
A11: 2014 | B11: 6770.629 | C11: 2609.728 | D11: =SUM(B11:C11) -> 9380.357 | F11: =A11 -> 2014 | G11: =B11/B10-1 -> 0.045999947 | H11: =C11/C10-1 -> 0.092757113 | I11: =D11/D10-1 -> 0.05860176
A12: 2015 | B12: 6756.163 | C12: 2448.738 | D12: =SUM(B12:C12) -> 9204.901 | F12: =A12 -> 2015 | G12: =B12/B11-1 -> -0.0021365814 | H12: =C12/C11-1 -> -0.061688421 | I12: =D12/D11-1 -> -0.018704619
A13: 2016 | B13: 7146.32 | C13: 2525.484 | D13: =SUM(B13:C13) -> 9671.804 | F13: =A13 -> 2016 | G13: =B13/B12-1 -> 0.057748311 | H13: =C13/C12-1 -> 0.031341042 | I13: =D13/D12-1 -> 0.050723305
A14: 2017 | B14: 9118.138 | C14: 2967.206 | D14: =SUM(B14:C14) -> 12085.344 | F14: =A14 -> 2017 | G14: =B14/B13-1 -> 0.27592075 | H14: =C14/C13-1 -> 0.17490588 | I14: =D14/D13-1 -> 0.24954393
A15: 2018 | B15: 7899.563 | C15: 2999.023 | D15: =SUM(B15:C15) -> 10898.586 | F15: =A15 -> 2018 | G15: =B15/B14-1 -> -0.13364297 | H15: =C15/C14-1 -> 0.010722882 | I15: =D15/D14-1 -> -0.098198115
A16: 2019 | B16: 9478.014 | C16: 3279.046 | D16: =SUM(B16:C16) -> 12757.06 | F16: =A16 -> 2019 | G16: =B16/B15-1 -> 0.19981498 | H16: =C16/C15-1 -> 0.093371408 | I16: =D16/D15-1 -> 0.17052432
A17: 2020 | B17: 10615.016 | C17: 3550.576 | D17: =SUM(B17:C17) -> 14165.592 | F17: =A17 -> 2020 | G17: =B17/B16-1 -> 0.11996205 | H17: =C17/C16-1 -> 0.082807621 | I17: =D17/D16-1 -> 0.11041196
A18: 2021 | B18: 12061.294 | C18: 3809.041 | D18: =SUM(B18:C18) -> 15870.335 | F18: =A18 -> 2021 | G18: =B18/B17-1 -> 0.13624831 | H18: =C18/C17-1 -> 0.072795231 | I18: =D18/D17-1 -> 0.12034393
A19: 2022 | B19: 10279.726 | C19: 3396.244 | D19: =SUM(B19:C19) -> 13675.97 | F19: =A19 -> 2022 | G19: =B19/B18-1 -> -0.14770952 | H19: =C19/C18-1 -> -0.10837295 | I19: =D19/D18-1 -> -0.13826835
... A21: 2024 | B21: 12109.284 | C21: 3432.322 | D21: =SUM(B21:C21) -> 15541.606 | F21: =A21 -> 2024 | G21: =B21/B20-1 -> 0.054577848 | H21: =C21/C20-1 -> -0.017165349 | I21: =D21/D20-1 -> 0.037846705
A23: Average | B23: =AVERAGE(B$7:B$21) -> 8327.5436 | C23: =AVERAGE(C$7:C$21) -> 2887.7745 | D23: =AVERAGE(D$7:D$21) -> 11215.318
A24: Y/Y Change | B24: =B21/B20-1 -> 0.054577848 | C24: =C21/C20-1 -> -0.017165349 | D24: =D21/D20-1 -> 0.037846705
A25: 5Y CAGR | B25: =((B21/B16)^(1/5))-1 -> 0.050219853 | C25: =((C21/C16)^(1/5))-1 -> 0.0091787636 | D25: =((D21/D16)^(1/5))-1 -> 0.04027715
A26: 10Y CAGR | B26: =((B21/B11)^(1/10))-1 -> 0.059861081 | C26: =((C21/C11)^(1/10))-1 -> 0.027777907 | D26: =((D21/D11)^(1/10))-1 -> 0.051786647
A28: Source: The Federal Reserve - Financial Accounts of the United States
A29: Note: Holding of foreign corporate equities, investment shares, and bonds by U.S. residents; includes American Depository Receipts (ADR)

Sheet 1-18
A1: Return to the Table of Contents
A3: US Gross Activity in Foreign Securities
A6: ($B) | B6: Stocks | C6: Bonds | D6: Total | F6: (Y/Y) | G6: Stocks | H6: Bonds | I6: Total
A7: 2010 | B7: 7404.148 | C7: 7320.287 | D7: =SUM(B7:C7) -> 14724.435
A8: 2011 | B8: 8000.485 | C8: 7054.871 | D8: =SUM(B8:C8) -> 15055.356 | F8: =A8 -> 2011 | G8: =B8/B7-1 -> 0.080540935 | H8: =C8/C7-1 -> -0.036257595 | I8: =D8/D7-1 -> 0.022474275
A9: 2012 | B9: 6909.499 | C9: 7824.298 | D9: =SUM(B9:C9) -> 14733.797 | F9: =A9 -> 2012 | G9: =B9/B8-1 -> -0.13636498 | H9: =C9/C8-1 -> 0.10906323 | I9: =D9/D8-1 -> -0.021358445
A10: 2013 | B10: 7850.709 | C10: 8609.584 | D10: =SUM(B10:C10) -> 16460.293 | F10: =A10 -> 2013 | G10: =B10/B9-1 -> 0.13621972 | H10: =C10/C9-1 -> 0.10036504 | I10: =D10/D9-1 -> 0.1171793
A11: 2014 | B11: 8892.151 | C11: 9287.271 | D11: =SUM(B11:C11) -> 18179.422 | F11: =A11 -> 2014 | G11: =B11/B10-1 -> 0.13265579 | H11: =C11/C10-1 -> 0.078713095 | I11: =D11/D10-1 -> 0.10444097
A12: 2015 | B12: 9694.674 | C12: 11501 | D12: =SUM(B12:C12) -> 21195.674 | F12: =A12 -> 2015 | G12: =B12/B11-1 -> 0.090250717 | H12: =C12/C11-1 -> 0.23836162 | I12: =D12/D11-1 -> 0.16591573
A13: 2016 | B13: 8805.466 | C13: 11104.53 | D13: =SUM(B13:C13) -> 19909.996 | F13: =A13 -> 2016 | G13: =B13/B12-1 -> -0.091721289 | H13: =C13/C12-1 -> -0.034472655 | I13: =D13/D12-1 -> -0.060657566
A14: 2017 | B14: 9798.194 | C14: 17387.154 | D14: =SUM(B14:C14) -> 27185.348 | F14: =A14 -> 2017 | G14: =B14/B13-1 -> 0.11273997 | H14: =C14/C13-1 -> 0.56577127 | I14: =D14/D13-1 -> 0.36541203
A15: 2018 | B15: 11907.802 | C15: 21865.672 | D15: =SUM(B15:C15) -> 33773.474 | F15: =A15 -> 2018 | G15: =B15/B14-1 -> 0.2153058 | H15: =C15/C14-1 -> 0.25757625 | I15: =D15/D14-1 -> 0.24234106
A16: 2019 | B16: 11082.182 | C16: 25856.86 | D16: =SUM(B16:C16) -> 36939.042 | F16: =A16 -> 2019 | G16: =B16/B15-1 -> -0.069334374 | H16: =C16/C15-1 -> 0.18253214 | I16: =D16/D15-1 -> 0.093729416
A17: 2020 | B17: 14437.075 | C17: 31616.251 | D17: =SUM(B17:C17) -> 46053.326 | F17: =A17 -> 2020 | G17: =B17/B16-1 -> 0.30272856 | H17: =C17/C16-1 -> 0.22274132 | I17: =D17/D16-1 -> 0.24673851
A18: 2021 | B18: 16967.213 | C18: 35792.067 | D18: =SUM(B18:C18) -> 52759.28 | F18: =A18 -> 2021 | G18: =B18/B17-1 -> 0.17525281 | H18: =C18/C17-1 -> 0.13207815 | I18: =D18/D17-1 -> 0.14561281
A19: 2022 | B19: 14260.731 | C19: 39005.142 | D19: =SUM(B19:C19) -> 53265.873 | F19: =A19 -> 2022 | G19: =B19/B18-1 -> -0.15951247 | H19: =C19/C18-1 -> 0.089770591 | I19: =D19/D18-1 -> 0.0096019695
A20: Change of methodology (see note)
A21: 2023* | B21: 16604.593 | C21: 3550.954 | D21: =SUM(B21:C21) -> 20155.547
A22: 2024 | B22: 26184.144 | C22: 5093.474 | D22: =SUM(B22:C22) -> 31277.618 | F22: =A22 -> 2024 | G22: =B22/B21-1 -> 0.57692176 | H22: =C22/C21-1 -> 0.43439594 | I22: =D22/D21-1 -> 0.55181192
A24: Source: U.S. Treasury, Treasury International Capital (TIC) System
A25: Note: Gross activity = purchases + sales. Includes long-term securities only. 2023 data excludes the month of January. Starting in February 2023, U.S. purchases and sales of foreign securities for a given country refer to securities issued by that country, in contrast to the previous breakdown showing the amounts of all foreign securities bought and sold in each country, regardless of the country of issuance. These reporting changes create a series break at February 2023 for all data on cross-border purchases and sales of long-term securities.

Sheet 1-19
A1: Return to the Table of Contents
A3: US Net Purchases of Foreign Securities
A6: ($B) | B6: Stocks | C6: Bonds | D6: Total | F6: (Y/Y) | G6: Stocks | H6: Bonds | I6: Total
A7: 2010 | B7: 59.888 | C7: 75.403 | D7: =SUM(B7:C7) -> 135.291
A8: 2011 | B8: 69.769 | C8: 88.799 | D8: =SUM(B8:C8) -> 158.568 | F8: =A8 -> 2011 | G8: =(B8-B7)/ABS(B7) -> 0.16499132 | H8: =(C8-C7)/ABS(C7) -> 0.17765871 | I8: =(D8-D7)/ABS(D7) -> 0.17205136
A9: 2012 | B9: 41.327 | C9: 1.36 | D9: =SUM(B9:C9) -> 42.687 | F9: =A9 -> 2012 | G9: =(B9-B8)/ABS(B8) -> -0.40765956 | H9: =(C9-C8)/ABS(C8) -> -0.98468451 | I9: =(D9-D8)/ABS(D8) -> -0.73079688
A10: 2013 | B10: 174.041 | C10: 76.396 | D10: =SUM(B10:C10) -> 250.437 | F10: =A10 -> 2013 | G10: =(B10-B9)/ABS(B9) -> 3.2113146 | H10: =(C10-C9)/ABS(C9) -> 55.173529 | I10: =(D10-D9)/ABS(D9) -> 4.8668213
A11: 2014 | B11: 107.725 | C11: -93.957 | D11: =SUM(B11:C11) -> 13.768 | F11: =A11 -> 2014 | G11: =(B11-B10)/ABS(B10) -> -0.38103665 | H11: =(C11-C10)/ABS(C10) -> -2.2298681 | I11: =(D11-D10)/ABS(D10) -> -0.9450241
A12: 2015 | B12: 114.012 | C12: -251.342 | D12: =SUM(B12:C12) -> -137.33 | F12: =A12 -> 2015 | G12: =(B12-B11)/ABS(B11) -> 0.058361569 | H12: =(C12-C11)/ABS(C11) -> -1.6750748 | I12: =(D12-D11)/ABS(D11) -> -10.974579
A13: 2016 | B13: 55.844 | C13: -233.22 | D13: =SUM(B13:C13) -> -177.376 | F13: =A13 -> 2016 | G13: =(B13-B12)/ABS(B12) -> -0.51019191 | H13: =(C13-C12)/ABS(C12) -> 0.072100962 | I13: =(D13-D12)/ABS(D12) -> -0.29160417
A14: 2017 | B14: 106.298 | C14: -217.756 | D14: =SUM(B14:C14) -> -111.458 | F14: =A14 -> 2017 | G14: =(B14-B13)/ABS(B13) -> 0.90348113 | H14: =(C14-C13)/ABS(C13) -> 0.066306492 | I14: =(D14-D13)/ABS(D13) -> 0.37162863
A15: 2018 | B15: -43.98 | C15: -291.656 | D15: =SUM(B15:C15) -> -335.636 | F15: =A15 -> 2018 | G15: =(B15-B14)/ABS(B14) -> -1.4137425 | H15: =(C15-C14)/ABS(C14) -> -0.33937067 | I15: =(D15-D14)/ABS(D14) -> -2.0113227
A16: 2019 | B16: -50.038 | C16: -113.584 | D16: =SUM(B16:C16) -> -163.622 | F16: =A16 -> 2019 | G16: =(B16-B15)/ABS(B15) -> -0.13774443 | H16: =(C16-C15)/ABS(C15) -> 0.6105549 | I16: =(D16-D15)/ABS(D15) -> 0.51250164
A17: 2020 | B17: -109.079 | C17: -178.039 | D17: =SUM(B17:C17) -> -287.118 | F17: =A17 -> 2020 | G17: =(B17-B16)/ABS(B16) -> -1.1799233 | H17: =(C17-C16)/ABS(C16) -> -0.56746549 | I17: =(D17-D16)/ABS(D16) -> -0.75476403
A18: 2021 | B18: 54.249 | C18: -299.427 | D18: =SUM(B18:C18) -> -245.178 | F18: =A18 -> 2021 | G18: =(B18-B17)/ABS(B17) -> 1.4973368 | H18: =(C18-C17)/ABS(C17) -> -0.68180567 | I18: =(D18-D17)/ABS(D17) -> 0.14607235
A19: 2022 | B19: -45.013 | C19: -236.364 | D19: =SUM(B19:C19) -> -281.377 | F19: =A19 -> 2022 | G19: =(B19-B18)/ABS(B18) -> -1.829748 | H19: =(C19-C18)/ABS(C18) -> 0.21061227 | I19: =(D19-D18)/ABS(D18) -> -0.14764375
A20: Change of methodology (see note)
A21: 2023 | B21: 12.445 | C21: -74.968 | D21: =SUM(B21:C21) -> -62.523
A22: 2024 | B22: -148.118 | C22: -164.732 | D22: =SUM(B22:C22) -> -312.85 | F22: =A22 -> 2024 | G22: =(B22-B21)/ABS(B21) -> -12.901808 | H22: =(C22-C21)/ABS(C21) -> -1.1973642 | I22: =(D22-D21)/ABS(D21) -> -4.0037586
A24: Source: U.S. Treasury, Treasury International Capital (TIC) System
A25: Note: Net purchases = purchases - sales. Includes long-term securities only. 2023 data excludes the month of January. Starting in February 2023, U.S. purchases and sales of foreign securities for a given country refer to securities issued by that country, in contrast to the previous breakdown showing the amounts of all foreign securities bought and sold in each country, regardless of the country of issuance. These reporting changes create a series break at February 2023 for all data on cross-border purchases and sales of long-term securities.

Sheet 1-20
A1: Return to the Table of Contents
A3: US Gross Activity in Foreign Equities by Region/Country
A6: ($B) | B6: Australia | C6: Canada | D6: China | E6: EU | F6: HK | G6: Japan | H6: Singapore | I6: UK | J6: Total
A7: 2010 | B7: 153.658 | C7: 490.779 | D7: 22.464 | E7: 673.158 | F7: 612.439 | G7: 374.212 | H7: 89.593 | I7: 2289.55 | J7: 7404.148
A8: 2011 | B8: 135.212 | C8: 581.34 | D8: 25.13 | E8: 724.354 | F8: 638.186 | G8: 390.666 | H8: 104.577 | I8: 2551.99 | J8: 8000.485
A9: 2012 | B9: 106.195 | C9: 487.09 | D9: 17.144 | E9: 657.058 | F9: 545.276 | G9: 304.673 | H9: 99.741 | I9: 2274.434 | J9: 6909.499
A10: 2013 | B10: 110.96 | C10: 526.391 | D10: 26.235 | E10: 634.719 | F10: 719.273 | G10: 504.93 | H10: 116.816 | I10: 2456.073 | J10: 7850.709
A11: 2014 | B11: 97.723 | C11: 750.837 | D11: 27.982 | E11: 751.551 | F11: 707.059 | G11: 361.558 | H11: 137.777 | I11: 2760.209 | J11: 8892.151
A12: 2015 | B12: 115.083 | C12: 846.188 | D12: 46.425 | E12: 861.945 | F12: 728.317 | G12: 390.009 | H12: 171.718 | I12: 2616.649 | J12: 9694.674
A13: 2016 | B13: 110.277 | C13: 679.479 | D13: 30.485 | E13: 1013.103 | F13: 614.699 | G13: 417.302 | H13: 180.337 | I13: 2510.355 | J13: 8805.466
A14: 2017 | B14: 114.464 | C14: 744.241 | D14: 32.933 | E14: 1149.317 | F14: 705.395 | G14: 459.038 | H14: 188.212 | I14: 2811.334 | J14: 9798.194
A15: 2018 | B15: 127.043 | C15: 878.45 | D15: 51.793 | E15: 1369.829 | F15: 886.441 | G15: 565.424 | H15: 249.065 | I15: 3768.771 | J15: 11907.802
A16: 2019 | B16: 129.646 | C16: 818.371 | D16: 53.085 | E16: 1204.512 | F16: 832.389 | G16: 441.663 | H16: 231.612 | I16: 3356.34 | J16: 11082.182
A17: 2020 | B17: 159.326 | C17: 1080.063 | D17: 84.639 | E17: 1667.998 | F17: 1179.668 | G17: 474.897 | H17: 325.736 | I17: 4450.18 | J17: 14437.075
A18: 2021 | B18: 201.338 | C18: 1346.203 | D18: 96.698 | E18: 1868.19 | F18: 1349.604 | G18: 468.739 | H18: 389.028 | I18: 5210.734 | J18: 16967.213
A19: 2022 | B19: 205.189 | C19: 1391.31 | D19: 52.214 | E19: 1580.652 | F19: 911.502 | G19: 398.218 | H19: 303.578 | I19: 4105.568 | J19: 14260.731
A20: Change of methodology (see note)
A21: 2023 | B21: 233.784 | C21: 2205.566 | D21: 2279.048 | E21: 4331.694 | F21: 107.869 | G21: 930.79 | H21: 92.251 | I21: 1052.275 | J21: 16604.593
A22: 2024 | B22: 275.74 | C22: 2899.986 | D22: 3677.122 | E22: 7216.212 | F22: 147.622 | G22: 1348.48 | H22: 129.648 | I22: 1945.702 | J22: 26184.144
A24: Source: U.S. Treasury, Treasury International Capital (TIC) System
A25: Note: Gross activity = purchases + sales. EU = European Union, HK = Hong Kong, China includes Mainland only. Includes long-term securities only. 2023 data excludes the month of January. Starting in February 2023, U.S. purchases and sales of foreign securities for a given country refer to securities issued by that country, in contrast to the previous breakdown showing the amounts of all foreign securities bought and sold in each country, regardless of the country of issuance. These reporting changes create a series break at February 2023 for all data on cross-border purchases and sales of long-term securities.

Sheet 1-21
A1: Return to the Table of Contents
A3: US Net Purchases in Foreign Equities by Region/Country
A6: ($B) | B6: Australia | C6: Canada | D6: China | E6: EU | F6: HK | G6: Japan | H6: Singapore | I6: UK | J6: Total
A7: 2010 | B7: 0.166 | C7: 2.771 | D7: -0.616 | E7: -6.86 | F7: 25.989 | G7: 12.996 | H7: -2.159 | I7: -3.786 | J7: 59.888
A8: 2011 | B8: -0.25 | C8: 1.436 | D8: 5.422 | E8: 12.082 | F8: 0.198 | G8: -4.13 | H8: 2.243 | I8: 2.972 | J8: 69.769
A9: 2012 | B9: 0.085 | C9: 0.844 | D9: -1.188 | E9: 2.032 | F9: 15.642 | G9: 9.191 | H9: -4.649 | I9: 13.05 | J9: 41.327
A10: 2013 | B10: 3.98 | C10: 6.365 | D10: -3.991 | E10: 30.305 | F10: 6.725 | G10: 32.904 | H10: -4.954 | I10: 96.775 | J10: 174.041
A11: 2014 | B11: 7.851 | C11: 9.917 | D11: 0.216 | E11: 6.281 | F11: 15.321 | G11: 1.21 | H11: 5.755 | I11: 47.755 | J11: 107.725
A12: 2015 | B12: 4.565 | C12: 7.746 | D12: 2.515 | E12: 5.971 | F12: 20.803 | G12: -2.355 | H12: 4.456 | I12: 40.927 | J12: 114.012
A13: 2016 | B13: 7.405 | C13: 3.215 | D13: 0.219 | E13: 5.769 | F13: 1.765 | G13: -14.152 | H13: -0.031 | I13: 23.333 | J13: 55.844
A14: 2017 | B14: -1.222 | C14: -17.301 | D14: -0.387 | E14: -0.543 | F14: 29.169 | G14: 2.462 | H14: 0.778 | I14: 95.104 | J14: 106.298
A15: 2018 | B15: -0.235 | C15: -35.564 | D15: -3.197 | E15: 14.621 | F15: 25.581 | G15: -10.012 | H15: -8.417 | I15: -2.521 | J15: -43.98
A16: 2019 | B16: -2.044 | C16: -28.943 | D16: -1.547 | E16: -16.902 | F16: 29.941 | G16: -1.183 | H16: -1.22 | I16: 16.87 | J16: -50.038
A17: 2020 | B17: -1.824 | C17: -39.645 | D17: -2.401 | E17: -32.4 | F17: -26.44 | G17: -16.415 | H17: 2.834 | I17: 31.25 | J17: -109.079
A18: 2021 | B18: 7.474 | C18: 8.111 | D18: 0.012 | E18: -12.8 | F18: 2.066 | G18: -5.543 | H18: -9.328 | I18: 52.362 | J18: 54.249
A19: 2022 | B19: 13.499 | C19: -15.87 | D19: 0.608 | E19: -20.864 | F19: -1.376 | G19: -13.888 | H19: -3.26 | I19: -1.246 | J19: -45.013
A20: Change of methodology (see note)
A21: 2023 | B21: -2.066 | C21: -18.454 | D21: 4.848 | E21: 23.842 | F21: 5.483 | G21: -9.37 | H21: 1.109 | I21: -11.319 | J21: 12.445
A22: 2024 | B22: -0.65 | C22: -32.34 | D22: 6.214 | E22: -63.108 | F22: 3.63 | G22: 1.248 | H22: -1.348 | I22: 12.445 | J22: -148.118
A24: Source: U.S. Treasury, Treasury International Capital (TIC) System
A25: Note: Net purchases = purchases - sales. EU = European Union, HK = Hong Kong, China includes Mainland only. Includes long-term securities only. 2023 data excludes the month of January. Starting in February 2023, U.S. purchases and sales of foreign securities for a given country refer to securities issued by that country, in contrast to the previous breakdown showing the amounts of all foreign securities bought and sold in each country, regardless of the country of issuance. These reporting changes create a series break at February 2023 for all data on cross-border purchases and sales of long-term securities.

Sheet 1-22
A1: Return to the Table of Contents
A3: Foreign Holdings of US Securities
A6: ($B) | B6: Stocks | C6: Corporates | D6: UST | E6: Agency & MBS | F6: Total | H6: (Y/Y) | I6: =B6 -> Stocks | J6: =C6 -> Corporates | K6: =D6 -> UST | L6: =E6 -> Agency & MBS | M6: =F6 -> Total
