Workbook
Name discounts: #REF!
Name HLPBRD_IB: #REF!
Name HLPBRD_IR: #REF!
Name HLPBRD_OBR: #REF!
Name maturities: #REF!
Name SortMaturity: #REF!
Name SortRange: #REF!
Name zeros: #REF!

Sheet DiscountFactors
B7: Start Date | C7: 45366
B8: End Date | C8: 56323
B9: Frequency | C9: Monthly
B11: Schedule (Quick Interpolation)
B13: Maturity Date | C13: Discount Factor
B14: 45366 | C14: 0.99738325 | N14: 45366
B15: 45397 | C15: 0.99281276 | N15: 45397
B16: 45427 | C16: 0.98828072 | N16: 45427
B17: 45458 | C17: 0.98341273 | N17: 45458
B18: 45488 | C18: 0.97916112 | N18: 45488
B19: 45519 | C19: 0.97453169 | N19: 45519
B20: 45550 | C20: 0.96998255 | N20: 45550
B21: 45580 | C21: 0.96594471 | N21: 45580
B22: 45611 | C22: 0.9616858 | N22: 45611
B23: 45641 | C23: 0.95770386 | N23: 45641
B24: 45672 | C24: 0.95382652 | N24: 45672
B25: 45703 | C25: 0.94996971 | N25: 45703
... B374: 56323 | C374: 0.31990189 | N374: 56323
N375: #N/A
N376: #N/A
N377: #N/A
N378: #N/A
N379: #N/A
N380: #N/A
N381: #N/A
N382: #N/A
N383: #N/A
N384: #N/A
N385: #N/A
N386: #N/A
... N502: #N/A

Sheet Exercises
B13: Answer: | C13: We need the discount factor for the maturity date on March 15, 2029
C14: Price of 5-year zero | E14: =1000*DiscountFactors!C74 -> 807.64209
B24: Answer: | C24: We need to set up the cash flows
C26: Coupon Cash Flow | E26: =5%/2*1000 -> 25
C28: Coupon Dates | D28: Coupon Cash Flow | F28: Discount Factors | H28: PV of Coupon Cash Flow | K28: Bond Price | L28: =SUM(H29:H33) -> 1019.151
C29: 45427 | D29: =$E$26 -> 25 | F29: =VLOOKUP(C29,DiscountFactors!$B$14:$C$374,2,FALSE) -> 0.98828072 | H29: =F29*D29 -> 24.707018
C30: =EDATE(C29,6) -> 45611 | D30: =$E$26 -> 25 | F30: =VLOOKUP(C30,DiscountFactors!$B$14:$C$374,2,FALSE) -> 0.9616858 | H30: =F30*D30 -> 24.042145
C31: =EDATE(C30,6) -> 45792 | D31: =$E$26 -> 25 | F31: =VLOOKUP(C31,DiscountFactors!$B$14:$C$374,2,FALSE) -> 0.93965169 | H31: =F31*D31 -> 23.491292
C32: =EDATE(C31,6) -> 45976 | D32: =$E$26 -> 25 | F32: =VLOOKUP(C32,DiscountFactors!$B$14:$C$374,2,FALSE) -> 0.91965806 | H32: =F32*D32 -> 22.991452
C33: =EDATE(C32,6) -> 46157 | D33: =$E$26+1000 -> 1025 | F33: =VLOOKUP(C33,DiscountFactors!$B$14:$C$374,2,FALSE) -> 0.90138447 | H33: =F33*D33 -> 923.91908
C43: Coupon Cash Flow | E43: =3%/2*1000 -> 15
C45: Coupon Dates | D45: Coupon Cash Flow | F45: Discount Factors | H45: PV of Coupon Cash Flow | K45: Bond Price | L45: =SUM(H46:H97) -> 845.927
C46: 45427 | D46: =$E$43 -> 15 | F46: =VLOOKUP(C46,DiscountFactors!$B$14:$C$374,2,FALSE) -> 0.98828072 | H46: =F46*D46 -> 14.824211
C47: =EDATE(C46,6) -> 45611 | D47: =$E$43 -> 15 | F47: =VLOOKUP(C47,DiscountFactors!$B$14:$C$374,2,FALSE) -> 0.9616858 | H47: =F47*D47 -> 14.425287
C48: =EDATE(C47,6) -> 45792 | D48: =$E$43 -> 15 | F48: =VLOOKUP(C48,DiscountFactors!$B$14:$C$374,2,FALSE) -> 0.93965169 | H48: =F48*D48 -> 14.094775
C49: =EDATE(C48,6) -> 45976 | D49: =$E$43 -> 15 | F49: =VLOOKUP(C49,DiscountFactors!$B$14:$C$374,2,FALSE) -> 0.91965806 | H49: =F49*D49 -> 13.794871
C50: =EDATE(C49,6) -> 46157 | D50: =$E$43 -> 15 | F50: =VLOOKUP(C50,DiscountFactors!$B$14:$C$374,2,FALSE) -> 0.90138447 | H50: =F50*D50 -> 13.520767
C51: =EDATE(C50,6) -> 46341 | D51: =$E$43 -> 15 | F51: =VLOOKUP(C51,DiscountFactors!$B$14:$C$374,2,FALSE) -> 0.88370748 | H51: =F51*D51 -> 13.255612
C52: =EDATE(C51,6) -> 46522 | D52: =$E$43 -> 15 | F52: =VLOOKUP(C52,DiscountFactors!$B$14:$C$374,2,FALSE) -> 0.86675933 | H52: =F52*D52 -> 13.00139
C53: =EDATE(C52,6) -> 46706 | D53: =$E$43 -> 15 | F53: =VLOOKUP(C53,DiscountFactors!$B$14:$C$374,2,FALSE) -> 0.85020366 | H53: =F53*D53 -> 12.753055
C54: =EDATE(C53,6) -> 46888 | D54: =$E$43 -> 15 | F54: =VLOOKUP(C54,DiscountFactors!$B$14:$C$374,2,FALSE) -> 0.83410763 | H54: =F54*D54 -> 12.511614
C55: =EDATE(C54,6) -> 47072 | D55: =$E$43 -> 15 | F55: =VLOOKUP(C55,DiscountFactors!$B$14:$C$374,2,FALSE) -> 0.81791667 | H55: =F55*D55 -> 12.26875
C56: =EDATE(C55,6) -> 47253 | D56: =$E$43 -> 15 | F56: =VLOOKUP(C56,DiscountFactors!$B$14:$C$374,2,FALSE) -> 0.80248792 | H56: =F56*D56 -> 12.037319
C57: =EDATE(C56,6) -> 47437 | D57: =$E$43 -> 15 | F57: =VLOOKUP(C57,DiscountFactors!$B$14:$C$374,2,FALSE) -> 0.7866537 | H57: =F57*D57 -> 11.799806
C58: =EDATE(C57,6) -> 47618 | D58: =$E$43 -> 15 | F58: =VLOOKUP(C58,DiscountFactors!$B$14:$C$374,2,FALSE) -> 0.77153723 | H58: =F58*D58 -> 11.573059
... C96: =EDATE(C95,6) -> 54558 | D96: =$E$43 -> 15 | F96: =VLOOKUP(C96,DiscountFactors!$B$14:$C$374,2,FALSE) -> 0.37107624 | H96: =F96*D96 -> 5.5661436
C97: =EDATE(C96,6) -> 54742 | D97: =$E$43+1000 -> 1015 | F97: =VLOOKUP(C97,DiscountFactors!$B$14:$C$374,2,FALSE) -> 0.36540583 | H97: =F97*D97 -> 370.88692
C108: Coupon Cash Flow
C109: Through May 15, 2029 | E109: =4%/2*1000 -> 20
C110: From Nov 15, 2029 | E110: =6%/2*1000 -> 30
C114: Coupon Dates | D114: Coupon Cash Flow | F114: Discount Factors | H114: PV of Coupon Cash Flow | K114: Bond Price | L114: =SUM(H115:H136) -> 1074.8317
C115: 45427 | D115: =$E$109 -> 20 | F115: =VLOOKUP(C115,DiscountFactors!$B$14:$C$374,2,FALSE) -> 0.98828072 | H115: =F115*D115 -> 19.765614
C116: =EDATE(C115,6) -> 45611 | D116: =$E$109 -> 20 | F116: =VLOOKUP(C116,DiscountFactors!$B$14:$C$374,2,FALSE) -> 0.9616858 | H116: =F116*D116 -> 19.233716
C117: =EDATE(C116,6) -> 45792 | D117: =$E$109 -> 20 | F117: =VLOOKUP(C117,DiscountFactors!$B$14:$C$374,2,FALSE) -> 0.93965169 | H117: =F117*D117 -> 18.793034
C118: =EDATE(C117,6) -> 45976 | D118: =$E$109 -> 20 | F118: =VLOOKUP(C118,DiscountFactors!$B$14:$C$374,2,FALSE) -> 0.91965806 | H118: =F118*D118 -> 18.393161
C119: =EDATE(C118,6) -> 46157 | D119: =$E$109 -> 20 | F119: =VLOOKUP(C119,DiscountFactors!$B$14:$C$374,2,FALSE) -> 0.90138447 | H119: =F119*D119 -> 18.027689
C120: =EDATE(C119,6) -> 46341 | D120: =$E$109 -> 20 | F120: =VLOOKUP(C120,DiscountFactors!$B$14:$C$374,2,FALSE) -> 0.88370748 | H120: =F120*D120 -> 17.67415
C121: =EDATE(C120,6) -> 46522 | D121: =$E$109 -> 20 | F121: =VLOOKUP(C121,DiscountFactors!$B$14:$C$374,2,FALSE) -> 0.86675933 | H121: =F121*D121 -> 17.335187
C122: =EDATE(C121,6) -> 46706 | D122: =$E$109 -> 20 | F122: =VLOOKUP(C122,DiscountFactors!$B$14:$C$374,2,FALSE) -> 0.85020366 | H122: =F122*D122 -> 17.004073
C123: =EDATE(C122,6) -> 46888 | D123: =$E$109 -> 20 | F123: =VLOOKUP(C123,DiscountFactors!$B$14:$C$374,2,FALSE) -> 0.83410763 | H123: =F123*D123 -> 16.682153
...

Sheet Data
B6: Currency | C6: Curve Id | D6: Num Swap Points | E6: Start Point | F6: Start Term | G6: Max Point
B7: AED.12m | C7: 336 | D7: 96 | E7: 1 | F7: 1D | G7: 50Y
B8: AED.1m | C8: 334 | D8: 96 | E8: 1 | F8: 1D | G8: 50Y
B9: AED.3m | C9: 230 | D9: 96 | E9: 1 | F9: 1D | G9: 50Y
B10: AED.6m | C10: 335 | D10: 96 | E10: 1 | F10: 1D | G10: 50Y
B11: ARS.3m | C11: 216 | D11: 44 | E11: 1 | F11: 1D | G11: 7Y
B12: AUD.1m | C12: 306 | D12: 96 | E12: 1 | F12: 1D | G12: 50Y
B13: AUD.3m | C13: 303 | D13: 96 | E13: 1 | F13: 1D | G13: 50Y
B14: AUD.6m | C14: 302 | D14: 96 | E14: 1 | F14: 1D | G14: 50Y
B15: AUD.6m.3m6m | C15: 1 | D15: 76 | E15: 1 | F15: 1D | G15: 30Y
B16: BGN.3m | C16: 183 | D16: 56 | E16: 1 | F16: 1D | G16: 10Y
B17: BHD.3m | C17: 316 | D17: 96 | E17: 1 | F17: 1D | G17: 50Y
B18: BRL.Zero | C18: 89 | D18: 66 | E18: 1 | F18: 1D | G18: 20Y
... B114: ZAR.3m | C114: 18 | D114: 74 | E114: 3 | F114: 1W | G114: 30Y
